Workbook
Name start_day: Aug!$AD$24

Sheet Aug
A1: =DATE(AD18,AD20,1) -> 46235 | K1: =DATE(YEAR(A1),MONTH(A1)-1,1) -> 46204 | S1: =DATE(YEAR(A1),MONTH(A1)+1,1) -> 46266
K2: =INDEX({"S";"M";"T";"W";"T";"F";"S"},1+MOD(start_day+1-2,7)) -> S | L2: =INDEX({"S";"M";"T";"W";"T";"F";"S"},1+MOD(start_day+2-2,7)) -> M | M2: =INDEX({"S";"M";"T";"W";"T";"F";"S"},1+MOD(start_day+3-2,7)) -> T | N2: =INDEX({"S";"M";"T";"W";"T";"F";"S"},1+MOD(start_day+4-2,7)) -> W | O2: =INDEX({"S";"M";"T";"W";"T";"F";"S"},1+MOD(start_day+5-2,7)) -> T | P2: =INDEX({"S";"M";"T";"W";"T";"F";"S"},1+MOD(start_day+6-2,7)) -> F | Q2: =INDEX({"S";"M";"T";"W";"T";"F";"S"},1+MOD(start_day+7-2,7)) -> S | S2: =INDEX({"S";"M";"T";"W";"T";"F";"S"},1+MOD(start_day+1-2,7)) -> S | T2: =INDEX({"S";"M";"T";"W";"T";"F";"S"},1+MOD(start_day+2-2,7)) -> M | U2: =INDEX({"S";"M";"T";"W";"T";"F";"S"},1+MOD(start_day+3-2,7)) -> T | V2: =INDEX({"S";"M";"T";"W";"T";"F";"S"},1+MOD(start_day+4-2,7)) -> W | W2: =INDEX({"S";"M";"T";"W";"T";"F";"S"},1+MOD(start_day+5-2,7)) -> T | X2: =INDEX({"S";"M";"T";"W";"T";"F";"S"},1+MOD(start_day+6-2,7)) -> F | Y2: =INDEX({"S";"M";"T";"W";"T";"F";"S"},1+MOD(start_day+7-2,7)) -> S
K3: =IF(MONTH($K$1)<>MONTH($K$1-(WEEKDAY($K$1,1)-(start_day-1))-IF((WEEKDAY($K$1,1)-(start_day-1))<=0,7,0)+(ROW(K3)-ROW($K$3))*7+(COLUMN(K3)-COLUMN($K$3)+1)),"",$K$1-(WEEKDAY($K$1,1)-(start_day-1))-IF((WEEKDAY($K$1,1)-(start_day-1))<=0,7,0)+(ROW(K3)-ROW($K$3))*7+(COLUMN(K3)-COLUMN($K$3)+1)) | L3: =IF(MONTH($K$1)<>MONTH($K$1-(WEEKDAY($K$1,1)-(start_day-1))-IF((WEEKDAY($K$1,1)-(start_day-1))<=0,7,0)+(ROW(L3)-ROW($K$3))*7+(COLUMN(L3)-COLUMN($K$3)+1)),"",$K$1-(WEEKDAY($K$1,1)-(start_day-1))-IF((WEEKDAY($K$1,1)-(start_day-1))<=0,7,0)+(ROW(L3)-ROW($K$3))*7+(COLUMN(L3)-COLUMN($K$3)+1)) | M3: =IF(MONTH($K$1)<>MONTH($K$1-(WEEKDAY($K$1,1)-(start_day-1))-IF((WEEKDAY($K$1,1)-(start_day-1))<=0,7,0)+(ROW(M3)-ROW($K$3))*7+(COLUMN(M3)-COLUMN($K$3)+1)),"",$K$1-(WEEKDAY($K$1,1)-(start_day-1))-IF((WEEKDAY($K$1,1)-(start_day-1))<=0,7,0)+(ROW(M3)-ROW($K$3))*7+(COLUMN(M3)-COLUMN($K$3)+1)) | N3: =IF(MONTH($K$1)<>MONTH($K$1-(WEEKDAY($K$1,1)-(start_day-1))-IF((WEEKDAY($K$1,1)-(start_day-1))<=0,7,0)+(ROW(N3)-ROW($K$3))*7+(COLUMN(N3)-COLUMN($K$3)+1)),"",$K$1-(WEEKDAY($K$1,1)-(start_day-1))-IF((WEEKDAY($K$1,1)-(start_day-1))<=0,7,0)+(ROW(N3)-ROW($K$3))*7+(COLUMN(N3)-COLUMN($K$3)+1)) -> 46204 | O3: =IF(MONTH($K$1)<>MONTH($K$1-(WEEKDAY($K$1,1)-(start_day-1))-IF((WEEKDAY($K$1,1)-(start_day-1))<=0,7,0)+(ROW(O3)-ROW($K$3))*7+(COLUMN(O3)-COLUMN($K$3)+1)),"",$K$1-(WEEKDAY($K$1,1)-(start_day-1))-IF((WEEKDAY($K$1,1)-(start_day-1))<=0,7,0)+(ROW(O3)-ROW($K$3))*7+(COLUMN(O3)-COLUMN($K$3)+1)) -> 46205 | P3: =IF(MONTH($K$1)<>MONTH($K$1-(WEEKDAY($K$1,1)-(start_day-1))-IF((WEEKDAY($K$1,1)-(start_day-1))<=0,7,0)+(ROW(P3)-ROW($K$3))*7+(COLUMN(P3)-COLUMN($K$3)+1)),"",$K$1-(WEEKDAY($K$1,1)-(start_day-1))-IF((WEEKDAY($K$1,1)-(start_day-1))<=0,7,0)+(ROW(P3)-ROW($K$3))*7+(COLUMN(P3)-COLUMN($K$3)+1)) -> 46206 | Q3: =IF(MONTH($K$1)<>MONTH($K$1-(WEEKDAY($K$1,1)-(start_day-1))-IF((WEEKDAY($K$1,1)-(start_day-1))<=0,7,0)+(ROW(Q3)-ROW($K$3))*7+(COLUMN(Q3)-COLUMN($K$3)+1)),"",$K$1-(WEEKDAY($K$1,1)-(start_day-1))-IF((WEEKDAY($K$1,1)-(start_day-1))<=0,7,0)+(ROW(Q3)-ROW($K$3))*7+(COLUMN(Q3)-COLUMN($K$3)+1)) -> 46207 | S3: =IF(MONTH($S$1)<>MONTH($S$1-(WEEKDAY($S$1,1)-(start_day-1))-IF((WEEKDAY($S$1,1)-(start_day-1))<=0,7,0)+(ROW(S3)-ROW($S$3))*7+(COLUMN(S3)-COLUMN($S$3)+1)),"",$S$1-(WEEKDAY($S$1,1)-(start_day-1))-IF((WEEKDAY($S$1,1)-(start_day-1))<=0,7,0)+(ROW(S3)-ROW($S$3))*7+(COLUMN(S3)-COLUMN($S$3)+1)) | T3: =IF(MONTH($S$1)<>MONTH($S$1-(WEEKDAY($S$1,1)-(start_day-1))-IF((WEEKDAY($S$1,1)-(start_day-1))<=0,7,0)+(ROW(T3)-ROW($S$3))*7+(COLUMN(T3)-COLUMN($S$3)+1)),"",$S$1-(WEEKDAY($S$1,1)-(start_day-1))-IF((WEEKDAY($S$1,1)-(start_day-1))<=0,7,0)+(ROW(T3)-ROW($S$3))*7+(COLUMN(T3)-COLUMN($S$3)+1)) | U3: =IF(MONTH($S$1)<>MONTH($S$1-(WEEKDAY($S$1,1)-(start_day-1))-IF((WEEKDAY($S$1,1)-(start_day-1))<=0,7,0)+(ROW(U3)-ROW($S$3))*7+(COLUMN(U3)-COLUMN($S$3)+1)),"",$S$1-(WEEKDAY($S$1,1)-(start_day-1))-IF((WEEKDAY($S$1,1)-(start_day-1))<=0,7,0)+(ROW(U3)-ROW($S$3))*7+(COLUMN(U3)-COLUMN($S$3)+1)) -> 46266 | V3: =IF(MONTH($S$1)<>MONTH($S$1-(WEEKDAY($S$1,1)-(start_day-1))-IF((WEEKDAY($S$1,1)-(start_day-1))<=0,7,0)+(ROW(V3)-ROW($S$3))*7+(COLUMN(V3)-COLUMN($S$3)+1)),"",$S$1-(WEEKDAY($S$1,1)-(start_day-1))-IF((WEEKDAY($S$1,1)-(start_day-1))<=0,7,0)+(ROW(V3)-ROW($S$3))*7+(COLUMN(V3)-COLUMN($S$3)+1)) -> 46267 | W3: =IF(MONTH($S$1)<>MONTH($S$1-(WEEKDAY($S$1,1)-(start_day-1))-IF((WEEKDAY($S$1,1)-(start_day-1))<=0,7,0)+(ROW(W3)-ROW($S$3))*7+(COLUMN(W3)-COLUMN($S$3)+1)),"",$S$1-(WEEKDAY($S$1,1)-(start_day-1))-IF((WEEKDAY($S$1,1)-(start_day-1))<=0,7,0)+(ROW(W3)-ROW($S$3))*7+(COLUMN(W3)-COLUMN($S$3)+1)) -> 46268 | X3: =IF(MONTH($S$1)<>MONTH($S$1-(WEEKDAY($S$1,1)-(start_day-1))-IF((WEEKDAY($S$1,1)-(start_day-1))<=0,7,0)+(ROW(X3)-ROW($S$3))*7+(COLUMN(X3)-COLUMN($S$3)+1)),"",$S$1-(WEEKDAY($S$1,1)-(start_day-1))-IF((WEEKDAY($S$1,1)-(start_day-1))<=0,7,0)+(ROW(X3)-ROW($S$3))*7+(COLUMN(X3)-COLUMN($S$3)+1)) -> 46269 | Y3: =IF(MONTH($S$1)<>MONTH($S$1-(WEEKDAY($S$1,1)-(start_day-1))-IF((WEEKDAY($S$1,1)-(start_day-1))<=0,7,0)+(ROW(Y3)-ROW($S$3))*7+(COLUMN(Y3)-COLUMN($S$3)+1)),"",$S$1-(WEEKDAY($S$1,1)-(start_day-1))-IF((WEEKDAY($S$1,1)-(start_day-1))<=0,7,0)+(ROW(Y3)-ROW($S$3))*7+(COLUMN(Y3)-COLUMN($S$3)+1)) -> 46270
J4: Unavailable | K4: =IF(MONTH($K$1)<>MONTH($K$1-(WEEKDAY($K$1,1)-(start_day-1))-IF((WEEKDAY($K$1,1)-(start_day-1))<=0,7,0)+(ROW(K4)-ROW($K$3))*7+(COLUMN(K4)-COLUMN($K$3)+1)),"",$K$1-(WEEKDAY($K$1,1)-(start_day-1))-IF((WEEKDAY($K$1,1)-(start_day-1))<=0,7,0)+(ROW(K4)-ROW($K$3))*7+(COLUMN(K4)-COLUMN($K$3)+1)) -> 46208 | L4: =IF(MONTH($K$1)<>MONTH($K$1-(WEEKDAY($K$1,1)-(start_day-1))-IF((WEEKDAY($K$1,1)-(start_day-1))<=0,7,0)+(ROW(L4)-ROW($K$3))*7+(COLUMN(L4)-COLUMN($K$3)+1)),"",$K$1-(WEEKDAY($K$1,1)-(start_day-1))-IF((WEEKDAY($K$1,1)-(start_day-1))<=0,7,0)+(ROW(L4)-ROW($K$3))*7+(COLUMN(L4)-COLUMN($K$3)+1)) -> 46209 | M4: =IF(MONTH($K$1)<>MONTH($K$1-(WEEKDAY($K$1,1)-(start_day-1))-IF((WEEKDAY($K$1,1)-(start_day-1))<=0,7,0)+(ROW(M4)-ROW($K$3))*7+(COLUMN(M4)-COLUMN($K$3)+1)),"",$K$1-(WEEKDAY($K$1,1)-(start_day-1))-IF((WEEKDAY($K$1,1)-(start_day-1))<=0,7,0)+(ROW(M4)-ROW($K$3))*7+(COLUMN(M4)-COLUMN($K$3)+1)) -> 46210 | N4: =IF(MONTH($K$1)<>MONTH($K$1-(WEEKDAY($K$1,1)-(start_day-1))-IF((WEEKDAY($K$1,1)-(start_day-1))<=0,7,0)+(ROW(N4)-ROW($K$3))*7+(COLUMN(N4)-COLUMN($K$3)+1)),"",$K$1-(WEEKDAY($K$1,1)-(start_day-1))-IF((WEEKDAY($K$1,1)-(start_day-1))<=0,7,0)+(ROW(N4)-ROW($K$3))*7+(COLUMN(N4)-COLUMN($K$3)+1)) -> 46211 | O4: =IF(MONTH($K$1)<>MONTH($K$1-(WEEKDAY($K$1,1)-(start_day-1))-IF((WEEKDAY($K$1,1)-(start_day-1))<=0,7,0)+(ROW(O4)-ROW($K$3))*7+(COLUMN(O4)-COLUMN($K$3)+1)),"",$K$1-(WEEKDAY($K$1,1)-(start_day-1))-IF((WEEKDAY($K$1,1)-(start_day-1))<=0,7,0)+(ROW(O4)-ROW($K$3))*7+(COLUMN(O4)-COLUMN($K$3)+1)) -> 46212 | P4: =IF(MONTH($K$1)<>MONTH($K$1-(WEEKDAY($K$1,1)-(start_day-1))-IF((WEEKDAY($K$1,1)-(start_day-1))<=0,7,0)+(ROW(P4)-ROW($K$3))*7+(COLUMN(P4)-COLUMN($K$3)+1)),"",$K$1-(WEEKDAY($K$1,1)-(start_day-1))-IF((WEEKDAY($K$1,1)-(start_day-1))<=0,7,0)+(ROW(P4)-ROW($K$3))*7+(COLUMN(P4)-COLUMN($K$3)+1)) -> 46213 | Q4: =IF(MONTH($K$1)<>MONTH($K$1-(WEEKDAY($K$1,1)-(start_day-1))-IF((WEEKDAY($K$1,1)-(start_day-1))<=0,7,0)+(ROW(Q4)-ROW($K$3))*7+(COLUMN(Q4)-COLUMN($K$3)+1)),"",$K$1-(WEEKDAY($K$1,1)-(start_day-1))-IF((WEEKDAY($K$1,1)-(start_day-1))<=0,7,0)+(ROW(Q4)-ROW($K$3))*7+(COLUMN(Q4)-COLUMN($K$3)+1)) -> 46214 | S4: =IF(MONTH($S$1)<>MONTH($S$1-(WEEKDAY($S$1,1)-(start_day-1))-IF((WEEKDAY($S$1,1)-(start_day-1))<=0,7,0)+(ROW(S4)-ROW($S$3))*7+(COLUMN(S4)-COLUMN($S$3)+1)),"",$S$1-(WEEKDAY($S$1,1)-(start_day-1))-IF((WEEKDAY($S$1,1)-(start_day-1))<=0,7,0)+(ROW(S4)-ROW($S$3))*7+(COLUMN(S4)-COLUMN($S$3)+1)) -> 46271 | T4: =IF(MONTH($S$1)<>MONTH($S$1-(WEEKDAY($S$1,1)-(start_day-1))-IF((WEEKDAY($S$1,1)-(start_day-1))<=0,7,0)+(ROW(T4)-ROW($S$3))*7+(COLUMN(T4)-COLUMN($S$3)+1)),"",$S$1-(WEEKDAY($S$1,1)-(start_day-1))-IF((WEEKDAY($S$1,1)-(start_day-1))<=0,7,0)+(ROW(T4)-ROW($S$3))*7+(COLUMN(T4)-COLUMN($S$3)+1)) -> 46272 | U4: =IF(MONTH($S$1)<>MONTH($S$1-(WEEKDAY($S$1,1)-(start_day-1))-IF((WEEKDAY($S$1,1)-(start_day-1))<=0,7,0)+(ROW(U4)-ROW($S$3))*7+(COLUMN(U4)-COLUMN($S$3)+1)),"",$S$1-(WEEKDAY($S$1,1)-(start_day-1))-IF((WEEKDAY($S$1,1)-(start_day-1))<=0,7,0)+(ROW(U4)-ROW($S$3))*7+(COLUMN(U4)-COLUMN($S$3)+1)) -> 46273 | V4: =IF(MONTH($S$1)<>MONTH($S$1-(WEEKDAY($S$1,1)-(start_day-1))-IF((WEEKDAY($S$1,1)-(start_day-1))<=0,7,0)+(ROW(V4)-ROW($S$3))*7+(COLUMN(V4)-COLUMN($S$3)+1)),"",$S$1-(WEEKDAY($S$1,1)-(start_day-1))-IF((WEEKDAY($S$1,1)-(start_day-1))<=0,7,0)+(ROW(V4)-ROW($S$3))*7+(COLUMN(V4)-COLUMN($S$3)+1)) -> 46274 | W4: =IF(MONTH($S$1)<>MONTH($S$1-(WEEKDAY($S$1,1)-(start_day-1))-IF((WEEKDAY($S$1,1)-(start_day-1))<=0,7,0)+(ROW(W4)-ROW($S$3))*7+(COLUMN(W4)-COLUMN($S$3)+1)),"",$S$1-(WEEKDAY($S$1,1)-(start_day-1))-IF((WEEKDAY($S$1,1)-(start_day-1))<=0,7,0)+(ROW(W4)-ROW($S$3))*7+(COLUMN(W4)-COLUMN($S$3)+1)) -> 46275 | X4: =IF(MONTH($S$1)<>MONTH($S$1-(WEEKDAY($S$1,1)-(start_day-1))-IF((WEEKDAY($S$1,1)-(start_day-1))<=0,7,0)+(ROW(X4)-ROW($S$3))*7+(COLUMN(X4)-COLUMN($S$3)+1)),"",$S$1-(WEEKDAY($S$1,1)-(start_day-1))-IF((WEEKDAY($S$1,1)-(start_day-1))<=0,7,0)+(ROW(X4)-ROW($S$3))*7+(COLUMN(X4)-COLUMN($S$3)+1)) -> 46276 | Y4: =IF(MONTH($S$1)<>MONTH($S$1-(WEEKDAY($S$1,1)-(start_day-1))-IF((WEEKDAY($S$1,1)-(start_day-1))<=0,7,0)+(ROW(Y4)-ROW($S$3))*7+(COLUMN(Y4)-COLUMN($S$3)+1)),"",$S$1-(WEEKDAY($S$1,1)-(start_day-1))-IF((WEEKDAY($S$1,1)-(start_day-1))<=0,7,0)+(ROW(Y4)-ROW($S$3))*7+(COLUMN(Y4)-COLUMN($S$3)+1)) -> 46277
K5: =IF(MONTH($K$1)<>MONTH($K$1-(WEEKDAY($K$1,1)-(start_day-1))-IF((WEEKDAY($K$1,1)-(start_day-1))<=0,7,0)+(ROW(K5)-ROW($K$3))*7+(COLUMN(K5)-COLUMN($K$3)+1)),"",$K$1-(WEEKDAY($K$1,1)-(start_day-1))-IF((WEEKDAY($K$1,1)-(start_day-1))<=0,7,0)+(ROW(K5)-ROW($K$3))*7+(COLUMN(K5)-COLUMN($K$3)+1)) -> 46215 | L5: =IF(MONTH($K$1)<>MONTH($K$1-(WEEKDAY($K$1,1)-(start_day-1))-IF((WEEKDAY($K$1,1)-(start_day-1))<=0,7,0)+(ROW(L5)-ROW($K$3))*7+(COLUMN(L5)-COLUMN($K$3)+1)),"",$K$1-(WEEKDAY($K$1,1)-(start_day-1))-IF((WEEKDAY($K$1,1)-(start_day-1))<=0,7,0)+(ROW(L5)-ROW($K$3))*7+(COLUMN(L5)-COLUMN($K$3)+1)) -> 46216 | M5: =IF(MONTH($K$1)<>MONTH($K$1-(WEEKDAY($K$1,1)-(start_day-1))-IF((WEEKDAY($K$1,1)-(start_day-1))<=0,7,0)+(ROW(M5)-ROW($K$3))*7+(COLUMN(M5)-COLUMN($K$3)+1)),"",$K$1-(WEEKDAY($K$1,1)-(start_day-1))-IF((WEEKDAY($K$1,1)-(start_day-1))<=0,7,0)+(ROW(M5)-ROW($K$3))*7+(COLUMN(M5)-COLUMN($K$3)+1)) -> 46217 | N5: =IF(MONTH($K$1)<>MONTH($K$1-(WEEKDAY($K$1,1)-(start_day-1))-IF((WEEKDAY($K$1,1)-(start_day-1))<=0,7,0)+(ROW(N5)-ROW($K$3))*7+(COLUMN(N5)-COLUMN($K$3)+1)),"",$K$1-(WEEKDAY($K$1,1)-(start_day-1))-IF((WEEKDAY($K$1,1)-(start_day-1))<=0,7,0)+(ROW(N5)-ROW($K$3))*7+(COLUMN(N5)-COLUMN($K$3)+1)) -> 46218 | O5: =IF(MONTH($K$1)<>MONTH($K$1-(WEEKDAY($K$1,1)-(start_day-1))-IF((WEEKDAY($K$1,1)-(start_day-1))<=0,7,0)+(ROW(O5)-ROW($K$3))*7+(COLUMN(O5)-COLUMN($K$3)+1)),"",$K$1-(WEEKDAY($K$1,1)-(start_day-1))-IF((WEEKDAY($K$1,1)-(start_day-1))<=0,7,0)+(ROW(O5)-ROW($K$3))*7+(COLUMN(O5)-COLUMN($K$3)+1)) -> 46219 | P5: =IF(MONTH($K$1)<>MONTH($K$1-(WEEKDAY($K$1,1)-(start_day-1))-IF((WEEKDAY($K$1,1)-(start_day-1))<=0,7,0)+(ROW(P5)-ROW($K$3))*7+(COLUMN(P5)-COLUMN($K$3)+1)),"",$K$1-(WEEKDAY($K$1,1)-(start_day-1))-IF((WEEKDAY($K$1,1)-(start_day-1))<=0,7,0)+(ROW(P5)-ROW($K$3))*7+(COLUMN(P5)-COLUMN($K$3)+1)) -> 46220 | Q5: =IF(MONTH($K$1)<>MONTH($K$1-(WEEKDAY($K$1,1)-(start_day-1))-IF((WEEKDAY($K$1,1)-(start_day-1))<=0,7,0)+(ROW(Q5)-ROW($K$3))*7+(COLUMN(Q5)-COLUMN($K$3)+1)),"",$K$1-(WEEKDAY($K$1,1)-(start_day-1))-IF((WEEKDAY($K$1,1)-(start_day-1))<=0,7,0)+(ROW(Q5)-ROW($K$3))*7+(COLUMN(Q5)-COLUMN($K$3)+1)) -> 46221 | S5: =IF(MONTH($S$1)<>MONTH($S$1-(WEEKDAY($S$1,1)-(start_day-1))-IF((WEEKDAY($S$1,1)-(start_day-1))<=0,7,0)+(ROW(S5)-ROW($S$3))*7+(COLUMN(S5)-COLUMN($S$3)+1)),"",$S$1-(WEEKDAY($S$1,1)-(start_day-1))-IF((WEEKDAY($S$1,1)-(start_day-1))<=0,7,0)+(ROW(S5)-ROW($S$3))*7+(COLUMN(S5)-COLUMN($S$3)+1)) -> 46278 | T5: =IF(MONTH($S$1)<>MONTH($S$1-(WEEKDAY($S$1,1)-(start_day-1))-IF((WEEKDAY($S$1,1)-(start_day-1))<=0,7,0)+(ROW(T5)-ROW($S$3))*7+(COLUMN(T5)-COLUMN($S$3)+1)),"",$S$1-(WEEKDAY($S$1,1)-(start_day-1))-IF((WEEKDAY($S$1,1)-(start_day-1))<=0,7,0)+(ROW(T5)-ROW($S$3))*7+(COLUMN(T5)-COLUMN($S$3)+1)) -> 46279 | U5: =IF(MONTH($S$1)<>MONTH($S$1-(WEEKDAY($S$1,1)-(start_day-1))-IF((WEEKDAY($S$1,1)-(start_day-1))<=0,7,0)+(ROW(U5)-ROW($S$3))*7+(COLUMN(U5)-COLUMN($S$3)+1)),"",$S$1-(WEEKDAY($S$1,1)-(start_day-1))-IF((WEEKDAY($S$1,1)-(start_day-1))<=0,7,0)+(ROW(U5)-ROW($S$3))*7+(COLUMN(U5)-COLUMN($S$3)+1)) -> 46280 | V5: =IF(MONTH($S$1)<>MONTH($S$1-(WEEKDAY($S$1,1)-(start_day-1))-IF((WEEKDAY($S$1,1)-(start_day-1))<=0,7,0)+(ROW(V5)-ROW($S$3))*7+(COLUMN(V5)-COLUMN($S$3)+1)),"",$S$1-(WEEKDAY($S$1,1)-(start_day-1))-IF((WEEKDAY($S$1,1)-(start_day-1))<=0,7,0)+(ROW(V5)-ROW($S$3))*7+(COLUMN(V5)-COLUMN($S$3)+1)) -> 46281 | W5: =IF(MONTH($S$1)<>MONTH($S$1-(WEEKDAY($S$1,1)-(start_day-1))-IF((WEEKDAY($S$1,1)-(start_day-1))<=0,7,0)+(ROW(W5)-ROW($S$3))*7+(COLUMN(W5)-COLUMN($S$3)+1)),"",$S$1-(WEEKDAY($S$1,1)-(start_day-1))-IF((WEEKDAY($S$1,1)-(start_day-1))<=0,7,0)+(ROW(W5)-ROW($S$3))*7+(COLUMN(W5)-COLUMN($S$3)+1)) -> 46282 | X5: =IF(MONTH($S$1)<>MONTH($S$1-(WEEKDAY($S$1,1)-(start_day-1))-IF((WEEKDAY($S$1,1)-(start_day-1))<=0,7,0)+(ROW(X5)-ROW($S$3))*7+(COLUMN(X5)-COLUMN($S$3)+1)),"",$S$1-(WEEKDAY($S$1,1)-(start_day-1))-IF((WEEKDAY($S$1,1)-(start_day-1))<=0,7,0)+(ROW(X5)-ROW($S$3))*7+(COLUMN(X5)-COLUMN($S$3)+1)) -> 46283 | Y5: =IF(MONTH($S$1)<>MONTH($S$1-(WEEKDAY($S$1,1)-(start_day-1))-IF((WEEKDAY($S$1,1)-(start_day-1))<=0,7,0)+(ROW(Y5)-ROW($S$3))*7+(COLUMN(Y5)-COLUMN($S$3)+1)),"",$S$1-(WEEKDAY($S$1,1)-(start_day-1))-IF((WEEKDAY($S$1,1)-(start_day-1))<=0,7,0)+(ROW(Y5)-ROW($S$3))*7+(COLUMN(Y5)-COLUMN($S$3)+1)) -> 46284
K6: =IF(MONTH($K$1)<>MONTH($K$1-(WEEKDAY($K$1,1)-(start_day-1))-IF((WEEKDAY($K$1,1)-(start_day-1))<=0,7,0)+(ROW(K6)-ROW($K$3))*7+(COLUMN(K6)-COLUMN($K$3)+1)),"",$K$1-(WEEKDAY($K$1,1)-(start_day-1))-IF((WEEKDAY($K$1,1)-(start_day-1))<=0,7,0)+(ROW(K6)-ROW($K$3))*7+(COLUMN(K6)-COLUMN($K$3)+1)) -> 46222 | L6: =IF(MONTH($K$1)<>MONTH($K$1-(WEEKDAY($K$1,1)-(start_day-1))-IF((WEEKDAY($K$1,1)-(start_day-1))<=0,7,0)+(ROW(L6)-ROW($K$3))*7+(COLUMN(L6)-COLUMN($K$3)+1)),"",$K$1-(WEEKDAY($K$1,1)-(start_day-1))-IF((WEEKDAY($K$1,1)-(start_day-1))<=0,7,0)+(ROW(L6)-ROW($K$3))*7+(COLUMN(L6)-COLUMN($K$3)+1)) -> 46223 | M6: =IF(MONTH($K$1)<>MONTH($K$1-(WEEKDAY($K$1,1)-(start_day-1))-IF((WEEKDAY($K$1,1)-(start_day-1))<=0,7,0)+(ROW(M6)-ROW($K$3))*7+(COLUMN(M6)-COLUMN($K$3)+1)),"",$K$1-(WEEKDAY($K$1,1)-(start_day-1))-IF((WEEKDAY($K$1,1)-(start_day-1))<=0,7,0)+(ROW(M6)-ROW($K$3))*7+(COLUMN(M6)-COLUMN($K$3)+1)) -> 46224 | N6: =IF(MONTH($K$1)<>MONTH($K$1-(WEEKDAY($K$1,1)-(start_day-1))-IF((WEEKDAY($K$1,1)-(start_day-1))<=0,7,0)+(ROW(N6)-ROW($K$3))*7+(COLUMN(N6)-COLUMN($K$3)+1)),"",$K$1-(WEEKDAY($K$1,1)-(start_day-1))-IF((WEEKDAY($K$1,1)-(start_day-1))<=0,7,0)+(ROW(N6)-ROW($K$3))*7+(COLUMN(N6)-COLUMN($K$3)+1)) -> 46225 | O6: =IF(MONTH($K$1)<>MONTH($K$1-(WEEKDAY($K$1,1)-(start_day-1))-IF((WEEKDAY($K$1,1)-(start_day-1))<=0,7,0)+(ROW(O6)-ROW($K$3))*7+(COLUMN(O6)-COLUMN($K$3)+1)),"",$K$1-(WEEKDAY($K$1,1)-(start_day-1))-IF((WEEKDAY($K$1,1)-(start_day-1))<=0,7,0)+(ROW(O6)-ROW($K$3))*7+(COLUMN(O6)-COLUMN($K$3)+1)) -> 46226 | P6: =IF(MONTH($K$1)<>MONTH($K$1-(WEEKDAY($K$1,1)-(start_day-1))-IF((WEEKDAY($K$1,1)-(start_day-1))<=0,7,0)+(ROW(P6)-ROW($K$3))*7+(COLUMN(P6)-COLUMN($K$3)+1)),"",$K$1-(WEEKDAY($K$1,1)-(start_day-1))-IF((WEEKDAY($K$1,1)-(start_day-1))<=0,7,0)+(ROW(P6)-ROW($K$3))*7+(COLUMN(P6)-COLUMN($K$3)+1)) -> 46227 | Q6: =IF(MONTH($K$1)<>MONTH($K$1-(WEEKDAY($K$1,1)-(start_day-1))-IF((WEEKDAY($K$1,1)-(start_day-1))<=0,7,0)+(ROW(Q6)-ROW($K$3))*7+(COLUMN(Q6)-COLUMN($K$3)+1)),"",$K$1-(WEEKDAY($K$1,1)-(start_day-1))-IF((WEEKDAY($K$1,1)-(start_day-1))<=0,7,0)+(ROW(Q6)-ROW($K$3))*7+(COLUMN(Q6)-COLUMN($K$3)+1)) -> 46228 | S6: =IF(MONTH($S$1)<>MONTH($S$1-(WEEKDAY($S$1,1)-(start_day-1))-IF((WEEKDAY($S$1,1)-(start_day-1))<=0,7,0)+(ROW(S6)-ROW($S$3))*7+(COLUMN(S6)-COLUMN($S$3)+1)),"",$S$1-(WEEKDAY($S$1,1)-(start_day-1))-IF((WEEKDAY($S$1,1)-(start_day-1))<=0,7,0)+(ROW(S6)-ROW($S$3))*7+(COLUMN(S6)-COLUMN($S$3)+1)) -> 46285 | T6: =IF(MONTH($S$1)<>MONTH($S$1-(WEEKDAY($S$1,1)-(start_day-1))-IF((WEEKDAY($S$1,1)-(start_day-1))<=0,7,0)+(ROW(T6)-ROW($S$3))*7+(COLUMN(T6)-COLUMN($S$3)+1)),"",$S$1-(WEEKDAY($S$1,1)-(start_day-1))-IF((WEEKDAY($S$1,1)-(start_day-1))<=0,7,0)+(ROW(T6)-ROW($S$3))*7+(COLUMN(T6)-COLUMN($S$3)+1)) -> 46286 | U6: =IF(MONTH($S$1)<>MONTH($S$1-(WEEKDAY($S$1,1)-(start_day-1))-IF((WEEKDAY($S$1,1)-(start_day-1))<=0,7,0)+(ROW(U6)-ROW($S$3))*7+(COLUMN(U6)-COLUMN($S$3)+1)),"",$S$1-(WEEKDAY($S$1,1)-(start_day-1))-IF((WEEKDAY($S$1,1)-(start_day-1))<=0,7,0)+(ROW(U6)-ROW($S$3))*7+(COLUMN(U6)-COLUMN($S$3)+1)) -> 46287 | V6: =IF(MONTH($S$1)<>MONTH($S$1-(WEEKDAY($S$1,1)-(start_day-1))-IF((WEEKDAY($S$1,1)-(start_day-1))<=0,7,0)+(ROW(V6)-ROW($S$3))*7+(COLUMN(V6)-COLUMN($S$3)+1)),"",$S$1-(WEEKDAY($S$1,1)-(start_day-1))-IF((WEEKDAY($S$1,1)-(start_day-1))<=0,7,0)+(ROW(V6)-ROW($S$3))*7+(COLUMN(V6)-COLUMN($S$3)+1)) -> 46288 | W6: =IF(MONTH($S$1)<>MONTH($S$1-(WEEKDAY($S$1,1)-(start_day-1))-IF((WEEKDAY($S$1,1)-(start_day-1))<=0,7,0)+(ROW(W6)-ROW($S$3))*7+(COLUMN(W6)-COLUMN($S$3)+1)),"",$S$1-(WEEKDAY($S$1,1)-(start_day-1))-IF((WEEKDAY($S$1,1)-(start_day-1))<=0,7,0)+(ROW(W6)-ROW($S$3))*7+(COLUMN(W6)-COLUMN($S$3)+1)) -> 46289 | X6: =IF(MONTH($S$1)<>MONTH($S$1-(WEEKDAY($S$1,1)-(start_day-1))-IF((WEEKDAY($S$1,1)-(start_day-1))<=0,7,0)+(ROW(X6)-ROW($S$3))*7+(COLUMN(X6)-COLUMN($S$3)+1)),"",$S$1-(WEEKDAY($S$1,1)-(start_day-1))-IF((WEEKDAY($S$1,1)-(start_day-1))<=0,7,0)+(ROW(X6)-ROW($S$3))*7+(COLUMN(X6)-COLUMN($S$3)+1)) -> 46290 | Y6: =IF(MONTH($S$1)<>MONTH($S$1-(WEEKDAY($S$1,1)-(start_day-1))-IF((WEEKDAY($S$1,1)-(start_day-1))<=0,7,0)+(ROW(Y6)-ROW($S$3))*7+(COLUMN(Y6)-COLUMN($S$3)+1)),"",$S$1-(WEEKDAY($S$1,1)-(start_day-1))-IF((WEEKDAY($S$1,1)-(start_day-1))<=0,7,0)+(ROW(Y6)-ROW($S$3))*7+(COLUMN(Y6)-COLUMN($S$3)+1)) -> 46291
K7: =IF(MONTH($K$1)<>MONTH($K$1-(WEEKDAY($K$1,1)-(start_day-1))-IF((WEEKDAY($K$1,1)-(start_day-1))<=0,7,0)+(ROW(K7)-ROW($K$3))*7+(COLUMN(K7)-COLUMN($K$3)+1)),"",$K$1-(WEEKDAY($K$1,1)-(start_day-1))-IF((WEEKDAY($K$1,1)-(start_day-1))<=0,7,0)+(ROW(K7)-ROW($K$3))*7+(COLUMN(K7)-COLUMN($K$3)+1)) -> 46229 | L7: =IF(MONTH($K$1)<>MONTH($K$1-(WEEKDAY($K$1,1)-(start_day-1))-IF((WEEKDAY($K$1,1)-(start_day-1))<=0,7,0)+(ROW(L7)-ROW($K$3))*7+(COLUMN(L7)-COLUMN($K$3)+1)),"",$K$1-(WEEKDAY($K$1,1)-(start_day-1))-IF((WEEKDAY($K$1,1)-(start_day-1))<=0,7,0)+(ROW(L7)-ROW($K$3))*7+(COLUMN(L7)-COLUMN($K$3)+1)) -> 46230 | M7: =IF(MONTH($K$1)<>MONTH($K$1-(WEEKDAY($K$1,1)-(start_day-1))-IF((WEEKDAY($K$1,1)-(start_day-1))<=0,7,0)+(ROW(M7)-ROW($K$3))*7+(COLUMN(M7)-COLUMN($K$3)+1)),"",$K$1-(WEEKDAY($K$1,1)-(start_day-1))-IF((WEEKDAY($K$1,1)-(start_day-1))<=0,7,0)+(ROW(M7)-ROW($K$3))*7+(COLUMN(M7)-COLUMN($K$3)+1)) -> 46231 | N7: =IF(MONTH($K$1)<>MONTH($K$1-(WEEKDAY($K$1,1)-(start_day-1))-IF((WEEKDAY($K$1,1)-(start_day-1))<=0,7,0)+(ROW(N7)-ROW($K$3))*7+(COLUMN(N7)-COLUMN($K$3)+1)),"",$K$1-(WEEKDAY($K$1,1)-(start_day-1))-IF((WEEKDAY($K$1,1)-(start_day-1))<=0,7,0)+(ROW(N7)-ROW($K$3))*7+(COLUMN(N7)-COLUMN($K$3)+1)) -> 46232 | O7: =IF(MONTH($K$1)<>MONTH($K$1-(WEEKDAY($K$1,1)-(start_day-1))-IF((WEEKDAY($K$1,1)-(start_day-1))<=0,7,0)+(ROW(O7)-ROW($K$3))*7+(COLUMN(O7)-COLUMN($K$3)+1)),"",$K$1-(WEEKDAY($K$1,1)-(start_day-1))-IF((WEEKDAY($K$1,1)-(start_day-1))<=0,7,0)+(ROW(O7)-ROW($K$3))*7+(COLUMN(O7)-COLUMN($K$3)+1)) -> 46233 | P7: =IF(MONTH($K$1)<>MONTH($K$1-(WEEKDAY($K$1,1)-(start_day-1))-IF((WEEKDAY($K$1,1)-(start_day-1))<=0,7,0)+(ROW(P7)-ROW($K$3))*7+(COLUMN(P7)-COLUMN($K$3)+1)),"",$K$1-(WEEKDAY($K$1,1)-(start_day-1))-IF((WEEKDAY($K$1,1)-(start_day-1))<=0,7,0)+(ROW(P7)-ROW($K$3))*7+(COLUMN(P7)-COLUMN($K$3)+1)) -> 46234 | Q7: =IF(MONTH($K$1)<>MONTH($K$1-(WEEKDAY($K$1,1)-(start_day-1))-IF((WEEKDAY($K$1,1)-(start_day-1))<=0,7,0)+(ROW(Q7)-ROW($K$3))*7+(COLUMN(Q7)-COLUMN($K$3)+1)),"",$K$1-(WEEKDAY($K$1,1)-(start_day-1))-IF((WEEKDAY($K$1,1)-(start_day-1))<=0,7,0)+(ROW(Q7)-ROW($K$3))*7+(COLUMN(Q7)-COLUMN($K$3)+1)) | S7: =IF(MONTH($S$1)<>MONTH($S$1-(WEEKDAY($S$1,1)-(start_day-1))-IF((WEEKDAY($S$1,1)-(start_day-1))<=0,7,0)+(ROW(S7)-ROW($S$3))*7+(COLUMN(S7)-COLUMN($S$3)+1)),"",$S$1-(WEEKDAY($S$1,1)-(start_day-1))-IF((WEEKDAY($S$1,1)-(start_day-1))<=0,7,0)+(ROW(S7)-ROW($S$3))*7+(COLUMN(S7)-COLUMN($S$3)+1)) -> 46292 | T7: =IF(MONTH($S$1)<>MONTH($S$1-(WEEKDAY($S$1,1)-(start_day-1))-IF((WEEKDAY($S$1,1)-(start_day-1))<=0,7,0)+(ROW(T7)-ROW($S$3))*7+(COLUMN(T7)-COLUMN($S$3)+1)),"",$S$1-(WEEKDAY($S$1,1)-(start_day-1))-IF((WEEKDAY($S$1,1)-(start_day-1))<=0,7,0)+(ROW(T7)-ROW($S$3))*7+(COLUMN(T7)-COLUMN($S$3)+1)) -> 46293 | U7: =IF(MONTH($S$1)<>MONTH($S$1-(WEEKDAY($S$1,1)-(start_day-1))-IF((WEEKDAY($S$1,1)-(start_day-1))<=0,7,0)+(ROW(U7)-ROW($S$3))*7+(COLUMN(U7)-COLUMN($S$3)+1)),"",$S$1-(WEEKDAY($S$1,1)-(start_day-1))-IF((WEEKDAY($S$1,1)-(start_day-1))<=0,7,0)+(ROW(U7)-ROW($S$3))*7+(COLUMN(U7)-COLUMN($S$3)+1)) -> 46294 | V7: =IF(MONTH($S$1)<>MONTH($S$1-(WEEKDAY($S$1,1)-(start_day-1))-IF((WEEKDAY($S$1,1)-(start_day-1))<=0,7,0)+(ROW(V7)-ROW($S$3))*7+(COLUMN(V7)-COLUMN($S$3)+1)),"",$S$1-(WEEKDAY($S$1,1)-(start_day-1))-IF((WEEKDAY($S$1,1)-(start_day-1))<=0,7,0)+(ROW(V7)-ROW($S$3))*7+(COLUMN(V7)-COLUMN($S$3)+1)) -> 46295 | W7: =IF(MONTH($S$1)<>MONTH($S$1-(WEEKDAY($S$1,1)-(start_day-1))-IF((WEEKDAY($S$1,1)-(start_day-1))<=0,7,0)+(ROW(W7)-ROW($S$3))*7+(COLUMN(W7)-COLUMN($S$3)+1)),"",$S$1-(WEEKDAY($S$1,1)-(start_day-1))-IF((WEEKDAY($S$1,1)-(start_day-1))<=0,7,0)+(ROW(W7)-ROW($S$3))*7+(COLUMN(W7)-COLUMN($S$3)+1)) | X7: =IF(MONTH($S$1)<>MONTH($S$1-(WEEKDAY($S$1,1)-(start_day-1))-IF((WEEKDAY($S$1,1)-(start_day-1))<=0,7,0)+(ROW(X7)-ROW($S$3))*7+(COLUMN(X7)-COLUMN($S$3)+1)),"",$S$1-(WEEKDAY($S$1,1)-(start_day-1))-IF((WEEKDAY($S$1,1)-(start_day-1))<=0,7,0)+(ROW(X7)-ROW($S$3))*7+(COLUMN(X7)-COLUMN($S$3)+1)) | Y7: =IF(MONTH($S$1)<>MONTH($S$1-(WEEKDAY($S$1,1)-(start_day-1))-IF((WEEKDAY($S$1,1)-(start_day-1))<=0,7,0)+(ROW(Y7)-ROW($S$3))*7+(COLUMN(Y7)-COLUMN($S$3)+1)),"",$S$1-(WEEKDAY($S$1,1)-(start_day-1))-IF((WEEKDAY($S$1,1)-(start_day-1))<=0,7,0)+(ROW(Y7)-ROW($S$3))*7+(COLUMN(Y7)-COLUMN($S$3)+1))
K8: =IF(MONTH($K$1)<>MONTH($K$1-(WEEKDAY($K$1,1)-(start_day-1))-IF((WEEKDAY($K$1,1)-(start_day-1))<=0,7,0)+(ROW(K8)-ROW($K$3))*7+(COLUMN(K8)-COLUMN($K$3)+1)),"",$K$1-(WEEKDAY($K$1,1)-(start_day-1))-IF((WEEKDAY($K$1,1)-(start_day-1))<=0,7,0)+(ROW(K8)-ROW($K$3))*7+(COLUMN(K8)-COLUMN($K$3)+1)) | L8: =IF(MONTH($K$1)<>MONTH($K$1-(WEEKDAY($K$1,1)-(start_day-1))-IF((WEEKDAY($K$1,1)-(start_day-1))<=0,7,0)+(ROW(L8)-ROW($K$3))*7+(COLUMN(L8)-COLUMN($K$3)+1)),"",$K$1-(WEEKDAY($K$1,1)-(start_day-1))-IF((WEEKDAY($K$1,1)-(start_day-1))<=0,7,0)+(ROW(L8)-ROW($K$3))*7+(COLUMN(L8)-COLUMN($K$3)+1)) | M8: =IF(MONTH($K$1)<>MONTH($K$1-(WEEKDAY($K$1,1)-(start_day-1))-IF((WEEKDAY($K$1,1)-(start_day-1))<=0,7,0)+(ROW(M8)-ROW($K$3))*7+(COLUMN(M8)-COLUMN($K$3)+1)),"",$K$1-(WEEKDAY($K$1,1)-(start_day-1))-IF((WEEKDAY($K$1,1)-(start_day-1))<=0,7,0)+(ROW(M8)-ROW($K$3))*7+(COLUMN(M8)-COLUMN($K$3)+1)) | N8: =IF(MONTH($K$1)<>MONTH($K$1-(WEEKDAY($K$1,1)-(start_day-1))-IF((WEEKDAY($K$1,1)-(start_day-1))<=0,7,0)+(ROW(N8)-ROW($K$3))*7+(COLUMN(N8)-COLUMN($K$3)+1)),"",$K$1-(WEEKDAY($K$1,1)-(start_day-1))-IF((WEEKDAY($K$1,1)-(start_day-1))<=0,7,0)+(ROW(N8)-ROW($K$3))*7+(COLUMN(N8)-COLUMN($K$3)+1)) | O8: =IF(MONTH($K$1)<>MONTH($K$1-(WEEKDAY($K$1,1)-(start_day-1))-IF((WEEKDAY($K$1,1)-(start_day-1))<=0,7,0)+(ROW(O8)-ROW($K$3))*7+(COLUMN(O8)-COLUMN($K$3)+1)),"",$K$1-(WEEKDAY($K$1,1)-(start_day-1))-IF((WEEKDAY($K$1,1)-(start_day-1))<=0,7,0)+(ROW(O8)-ROW($K$3))*7+(COLUMN(O8)-COLUMN($K$3)+1)) | P8: =IF(MONTH($K$1)<>MONTH($K$1-(WEEKDAY($K$1,1)-(start_day-1))-IF((WEEKDAY($K$1,1)-(start_day-1))<=0,7,0)+(ROW(P8)-ROW($K$3))*7+(COLUMN(P8)-COLUMN($K$3)+1)),"",$K$1-(WEEKDAY($K$1,1)-(start_day-1))-IF((WEEKDAY($K$1,1)-(start_day-1))<=0,7,0)+(ROW(P8)-ROW($K$3))*7+(COLUMN(P8)-COLUMN($K$3)+1)) | Q8: =IF(MONTH($K$1)<>MONTH($K$1-(WEEKDAY($K$1,1)-(start_day-1))-IF((WEEKDAY($K$1,1)-(start_day-1))<=0,7,0)+(ROW(Q8)-ROW($K$3))*7+(COLUMN(Q8)-COLUMN($K$3)+1)),"",$K$1-(WEEKDAY($K$1,1)-(start_day-1))-IF((WEEKDAY($K$1,1)-(start_day-1))<=0,7,0)+(ROW(Q8)-ROW($K$3))*7+(COLUMN(Q8)-COLUMN($K$3)+1)) | S8: =IF(MONTH($S$1)<>MONTH($S$1-(WEEKDAY($S$1,1)-(start_day-1))-IF((WEEKDAY($S$1,1)-(start_day-1))<=0,7,0)+(ROW(S8)-ROW($S$3))*7+(COLUMN(S8)-COLUMN($S$3)+1)),"",$S$1-(WEEKDAY($S$1,1)-(start_day-1))-IF((WEEKDAY($S$1,1)-(start_day-1))<=0,7,0)+(ROW(S8)-ROW($S$3))*7+(COLUMN(S8)-COLUMN($S$3)+1)) | T8: =IF(MONTH($S$1)<>MONTH($S$1-(WEEKDAY($S$1,1)-(start_day-1))-IF((WEEKDAY($S$1,1)-(start_day-1))<=0,7,0)+(ROW(T8)-ROW($S$3))*7+(COLUMN(T8)-COLUMN($S$3)+1)),"",$S$1-(WEEKDAY($S$1,1)-(start_day-1))-IF((WEEKDAY($S$1,1)-(start_day-1))<=0,7,0)+(ROW(T8)-ROW($S$3))*7+(COLUMN(T8)-COLUMN($S$3)+1)) | U8: =IF(MONTH($S$1)<>MONTH($S$1-(WEEKDAY($S$1,1)-(start_day-1))-IF((WEEKDAY($S$1,1)-(start_day-1))<=0,7,0)+(ROW(U8)-ROW($S$3))*7+(COLUMN(U8)-COLUMN($S$3)+1)),"",$S$1-(WEEKDAY($S$1,1)-(start_day-1))-IF((WEEKDAY($S$1,1)-(start_day-1))<=0,7,0)+(ROW(U8)-ROW($S$3))*7+(COLUMN(U8)-COLUMN($S$3)+1)) | V8: =IF(MONTH($S$1)<>MONTH($S$1-(WEEKDAY($S$1,1)-(start_day-1))-IF((WEEKDAY($S$1,1)-(start_day-1))<=0,7,0)+(ROW(V8)-ROW($S$3))*7+(COLUMN(V8)-COLUMN($S$3)+1)),"",$S$1-(WEEKDAY($S$1,1)-(start_day-1))-IF((WEEKDAY($S$1,1)-(start_day-1))<=0,7,0)+(ROW(V8)-ROW($S$3))*7+(COLUMN(V8)-COLUMN($S$3)+1)) | W8: =IF(MONTH($S$1)<>MONTH($S$1-(WEEKDAY($S$1,1)-(start_day-1))-IF((WEEKDAY($S$1,1)-(start_day-1))<=0,7,0)+(ROW(W8)-ROW($S$3))*7+(COLUMN(W8)-COLUMN($S$3)+1)),"",$S$1-(WEEKDAY($S$1,1)-(start_day-1))-IF((WEEKDAY($S$1,1)-(start_day-1))<=0,7,0)+(ROW(W8)-ROW($S$3))*7+(COLUMN(W8)-COLUMN($S$3)+1)) | X8: =IF(MONTH($S$1)<>MONTH($S$1-(WEEKDAY($S$1,1)-(start_day-1))-IF((WEEKDAY($S$1,1)-(start_day-1))<=0,7,0)+(ROW(X8)-ROW($S$3))*7+(COLUMN(X8)-COLUMN($S$3)+1)),"",$S$1-(WEEKDAY($S$1,1)-(start_day-1))-IF((WEEKDAY($S$1,1)-(start_day-1))<=0,7,0)+(ROW(X8)-ROW($S$3))*7+(COLUMN(X8)-COLUMN($S$3)+1)) | Y8: =IF(MONTH($S$1)<>MONTH($S$1-(WEEKDAY($S$1,1)-(start_day-1))-IF((WEEKDAY($S$1,1)-(start_day-1))<=0,7,0)+(ROW(Y8)-ROW($S$3))*7+(COLUMN(Y8)-COLUMN($S$3)+1)),"",$S$1-(WEEKDAY($S$1,1)-(start_day-1))-IF((WEEKDAY($S$1,1)-(start_day-1))<=0,7,0)+(ROW(Y8)-ROW($S$3))*7+(COLUMN(Y8)-COLUMN($S$3)+1))
A9: =A10 -> 46229 | C9: =C10 -> 46230 | E9: =E10 -> 46231 | G9: =G10 -> 46232 | I9: =I10 -> 46233 | K9: =K10 -> 46234 | S9: =S10 -> 46235 | AB9: CALENDAR TEMPLATES by Vertex42.com
A10: =$A$1-(WEEKDAY($A$1,1)-(start_day-1))-IF((WEEKDAY($A$1,1)-(start_day-1))<=0,7,0)+1 -> 46229 | C10: =A10+1 -> 46230 | E10: =C10+1 -> 46231 | G10: =E10+1 -> 46232 | I10: =G10+1 -> 46233 | K10: =I10+1 -> 46234 | S10: =K10+1 -> 46235 | AB10: https://www.vertex42.com/calendars/
A11: Morning
A13: Afternoon
A15: Evening
A16: =S10+1 -> 46236 | C16: =A16+1 -> 46237 | E16: =C16+1 -> 46238 | G16: =E16+1 -> 46239 | I16: =G16+1 -> 46240 | K16: =I16+1 -> 46241 | S16: =K16+1 -> 46242 | AB16: Step 1: Enter the Year and Start Month
A17: Morning
AC18: Year | AD18: 2026
A19: Afternoon
AC20: Start Month | AD20: 8
A21: Evening
A22: =S16+1 -> 46243 | C22: =A22+1 -> 46244 | E22: =C22+1 -> 46245 | G22: =E22+1 -> 46246 | I22: =G22+1 -> 46247 | K22: =I22+1 -> 46248 | S22: =K22+1 -> 46249 | AB22: Step 2: Choose the Start Day
A23: Morning
AC24: Start Day of Week | AD24: 1
A25: Afternoon
A27: Evening
A28: =S22+1 -> 46250 | C28: =A28+1 -> 46251 | E28: =C28+1 -> 46252 | G28: =E28+1 -> 46253 | I28: =G28+1 -> 46254 | K28: =I28+1 -> 46255 | S28: =K28+1 -> 46256 | AB28: Step 3: Customize the Theme Colors / Fonts
A29: Morning | C29: First Day for KISD | AC29: Go to Page Layout > Themes to choose
AC30: different colors and fonts.
A31: Afternoon
A33: Evening
A34: =S28+1 -> 46257 | C34: =A34+1 -> 46258 | E34: =C34+1 -> 46259 | G34: =E34+1 -> 46260 | I34: =G34+1 -> 46261 | K34: =I34+1 -> 46262 | S34: =K34+1 -> 46263 | AB34: Step 4: Print to Paper or PDF
A35: Morning | AC35: Print the entire workbook, or print
AC36: only the selected worksheets.
A37: Afternoon
A39: Evening
A40: =S34+1 -> 46264 | C40: =A40+1 -> 46265 | E40: Notes
K44: Calendar Templates by Vertex42
K45: https://www.vertex42.com/calendars/

Sheet Sep
A1: =DATE(Aug!AD18,Aug!AD20+1,1) -> 46266 | K1: =DATE(YEAR(A1),MONTH(A1)-1,1) -> 46235 | S1: =DATE(YEAR(A1),MONTH(A1)+1,1) -> 46296
K2: =INDEX({"S";"M";"T";"W";"T";"F";"S"},1+MOD(start_day+1-2,7)) -> S | L2: =INDEX({"S";"M";"T";"W";"T";"F";"S"},1+MOD(start_day+2-2,7)) -> M | M2: =INDEX({"S";"M";"T";"W";"T";"F";"S"},1+MOD(start_day+3-2,7)) -> T | N2: =INDEX({"S";"M";"T";"W";"T";"F";"S"},1+MOD(start_day+4-2,7)) -> W | O2: =INDEX({"S";"M";"T";"W";"T";"F";"S"},1+MOD(start_day+5-2,7)) -> T | P2: =INDEX({"S";"M";"T";"W";"T";"F";"S"},1+MOD(start_day+6-2,7)) -> F | Q2: =INDEX({"S";"M";"T";"W";"T";"F";"S"},1+MOD(start_day+7-2,7)) -> S | S2: =INDEX({"S";"M";"T";"W";"T";"F";"S"},1+MOD(start_day+1-2,7)) -> S | T2: =INDEX({"S";"M";"T";"W";"T";"F";"S"},1+MOD(start_day+2-2,7)) -> M | U2: =INDEX({"S";"M";"T";"W";"T";"F";"S"},1+MOD(start_day+3-2,7)) -> T | V2: =INDEX({"S";"M";"T";"W";"T";"F";"S"},1+MOD(start_day+4-2,7)) -> W | W2: =INDEX({"S";"M";"T";"W";"T";"F";"S"},1+MOD(start_day+5-2,7)) -> T | X2: =INDEX({"S";"M";"T";"W";"T";"F";"S"},1+MOD(start_day+6-2,7)) -> F | Y2: =INDEX({"S";"M";"T";"W";"T";"F";"S"},1+MOD(start_day+7-2,7)) -> S
K3: =IF(MONTH($K$1)<>MONTH($K$1-(WEEKDAY($K$1,1)-(start_day-1))-IF((WEEKDAY($K$1,1)-(start_day-1))<=0,7,0)+(ROW(K3)-ROW($K$3))*7+(COLUMN(K3)-COLUMN($K$3)+1)),"",$K$1-(WEEKDAY($K$1,1)-(start_day-1))-IF((WEEKDAY($K$1,1)-(start_day-1))<=0,7,0)+(ROW(K3)-ROW($K$3))*7+(COLUMN(K3)-COLUMN($K$3)+1)) | L3: =IF(MONTH($K$1)<>MONTH($K$1-(WEEKDAY($K$1,1)-(start_day-1))-IF((WEEKDAY($K$1,1)-(start_day-1))<=0,7,0)+(ROW(L3)-ROW($K$3))*7+(COLUMN(L3)-COLUMN($K$3)+1)),"",$K$1-(WEEKDAY($K$1,1)-(start_day-1))-IF((WEEKDAY($K$1,1)-(start_day-1))<=0,7,0)+(ROW(L3)-ROW($K$3))*7+(COLUMN(L3)-COLUMN($K$3)+1)) | M3: =IF(MONTH($K$1)<>MONTH($K$1-(WEEKDAY($K$1,1)-(start_day-1))-IF((WEEKDAY($K$1,1)-(start_day-1))<=0,7,0)+(ROW(M3)-ROW($K$3))*7+(COLUMN(M3)-COLUMN($K$3)+1)),"",$K$1-(WEEKDAY($K$1,1)-(start_day-1))-IF((WEEKDAY($K$1,1)-(start_day-1))<=0,7,0)+(ROW(M3)-ROW($K$3))*7+(COLUMN(M3)-COLUMN($K$3)+1)) | N3: =IF(MONTH($K$1)<>MONTH($K$1-(WEEKDAY($K$1,1)-(start_day-1))-IF((WEEKDAY($K$1,1)-(start_day-1))<=0,7,0)+(ROW(N3)-ROW($K$3))*7+(COLUMN(N3)-COLUMN($K$3)+1)),"",$K$1-(WEEKDAY($K$1,1)-(start_day-1))-IF((WEEKDAY($K$1,1)-(start_day-1))<=0,7,0)+(ROW(N3)-ROW($K$3))*7+(COLUMN(N3)-COLUMN($K$3)+1)) | O3: =IF(MONTH($K$1)<>MONTH($K$1-(WEEKDAY($K$1,1)-(start_day-1))-IF((WEEKDAY($K$1,1)-(start_day-1))<=0,7,0)+(ROW(O3)-ROW($K$3))*7+(COLUMN(O3)-COLUMN($K$3)+1)),"",$K$1-(WEEKDAY($K$1,1)-(start_day-1))-IF((WEEKDAY($K$1,1)-(start_day-1))<=0,7,0)+(ROW(O3)-ROW($K$3))*7+(COLUMN(O3)-COLUMN($K$3)+1)) | P3: =IF(MONTH($K$1)<>MONTH($K$1-(WEEKDAY($K$1,1)-(start_day-1))-IF((WEEKDAY($K$1,1)-(start_day-1))<=0,7,0)+(ROW(P3)-ROW($K$3))*7+(COLUMN(P3)-COLUMN($K$3)+1)),"",$K$1-(WEEKDAY($K$1,1)-(start_day-1))-IF((WEEKDAY($K$1,1)-(start_day-1))<=0,7,0)+(ROW(P3)-ROW($K$3))*7+(COLUMN(P3)-COLUMN($K$3)+1)) | Q3: =IF(MONTH($K$1)<>MONTH($K$1-(WEEKDAY($K$1,1)-(start_day-1))-IF((WEEKDAY($K$1,1)-(start_day-1))<=0,7,0)+(ROW(Q3)-ROW($K$3))*7+(COLUMN(Q3)-COLUMN($K$3)+1)),"",$K$1-(WEEKDAY($K$1,1)-(start_day-1))-IF((WEEKDAY($K$1,1)-(start_day-1))<=0,7,0)+(ROW(Q3)-ROW($K$3))*7+(COLUMN(Q3)-COLUMN($K$3)+1)) -> 46235 | S3: =IF(MONTH($S$1)<>MONTH($S$1-(WEEKDAY($S$1,1)-(start_day-1))-IF((WEEKDAY($S$1,1)-(start_day-1))<=0,7,0)+(ROW(S3)-ROW($S$3))*7+(COLUMN(S3)-COLUMN($S$3)+1)),"",$S$1-(WEEKDAY($S$1,1)-(start_day-1))-IF((WEEKDAY($S$1,1)-(start_day-1))<=0,7,0)+(ROW(S3)-ROW($S$3))*7+(COLUMN(S3)-COLUMN($S$3)+1)) | T3: =IF(MONTH($S$1)<>MONTH($S$1-(WEEKDAY($S$1,1)-(start_day-1))-IF((WEEKDAY($S$1,1)-(start_day-1))<=0,7,0)+(ROW(T3)-ROW($S$3))*7+(COLUMN(T3)-COLUMN($S$3)+1)),"",$S$1-(WEEKDAY($S$1,1)-(start_day-1))-IF((WEEKDAY($S$1,1)-(start_day-1))<=0,7,0)+(ROW(T3)-ROW($S$3))*7+(COLUMN(T3)-COLUMN($S$3)+1)) | U3: =IF(MONTH($S$1)<>MONTH($S$1-(WEEKDAY($S$1,1)-(start_day-1))-IF((WEEKDAY($S$1,1)-(start_day-1))<=0,7,0)+(ROW(U3)-ROW($S$3))*7+(COLUMN(U3)-COLUMN($S$3)+1)),"",$S$1-(WEEKDAY($S$1,1)-(start_day-1))-IF((WEEKDAY($S$1,1)-(start_day-1))<=0,7,0)+(ROW(U3)-ROW($S$3))*7+(COLUMN(U3)-COLUMN($S$3)+1)) | V3: =IF(MONTH($S$1)<>MONTH($S$1-(WEEKDAY($S$1,1)-(start_day-1))-IF((WEEKDAY($S$1,1)-(start_day-1))<=0,7,0)+(ROW(V3)-ROW($S$3))*7+(COLUMN(V3)-COLUMN($S$3)+1)),"",$S$1-(WEEKDAY($S$1,1)-(start_day-1))-IF((WEEKDAY($S$1,1)-(start_day-1))<=0,7,0)+(ROW(V3)-ROW($S$3))*7+(COLUMN(V3)-COLUMN($S$3)+1)) | W3: =IF(MONTH($S$1)<>MONTH($S$1-(WEEKDAY($S$1,1)-(start_day-1))-IF((WEEKDAY($S$1,1)-(start_day-1))<=0,7,0)+(ROW(W3)-ROW($S$3))*7+(COLUMN(W3)-COLUMN($S$3)+1)),"",$S$1-(WEEKDAY($S$1,1)-(start_day-1))-IF((WEEKDAY($S$1,1)-(start_day-1))<=0,7,0)+(ROW(W3)-ROW($S$3))*7+(COLUMN(W3)-COLUMN($S$3)+1)) -> 46296 | X3: =IF(MONTH($S$1)<>MONTH($S$1-(WEEKDAY($S$1,1)-(start_day-1))-IF((WEEKDAY($S$1,1)-(start_day-1))<=0,7,0)+(ROW(X3)-ROW($S$3))*7+(COLUMN(X3)-COLUMN($S$3)+1)),"",$S$1-(WEEKDAY($S$1,1)-(start_day-1))-IF((WEEKDAY($S$1,1)-(start_day-1))<=0,7,0)+(ROW(X3)-ROW($S$3))*7+(COLUMN(X3)-COLUMN($S$3)+1)) -> 46297 | Y3: =IF(MONTH($S$1)<>MONTH($S$1-(WEEKDAY($S$1,1)-(start_day-1))-IF((WEEKDAY($S$1,1)-(start_day-1))<=0,7,0)+(ROW(Y3)-ROW($S$3))*7+(COLUMN(Y3)-COLUMN($S$3)+1)),"",$S$1-(WEEKDAY($S$1,1)-(start_day-1))-IF((WEEKDAY($S$1,1)-(start_day-1))<=0,7,0)+(ROW(Y3)-ROW($S$3))*7+(COLUMN(Y3)-COLUMN($S$3)+1)) -> 46298
J4: Unavailable | K4: =IF(MONTH($K$1)<>MONTH($K$1-(WEEKDAY($K$1,1)-(start_day-1))-IF((WEEKDAY($K$1,1)-(start_day-1))<=0,7,0)+(ROW(K4)-ROW($K$3))*7+(COLUMN(K4)-COLUMN($K$3)+1)),"",$K$1-(WEEKDAY($K$1,1)-(start_day-1))-IF((WEEKDAY($K$1,1)-(start_day-1))<=0,7,0)+(ROW(K4)-ROW($K$3))*7+(COLUMN(K4)-COLUMN($K$3)+1)) -> 46236 | L4: =IF(MONTH($K$1)<>MONTH($K$1-(WEEKDAY($K$1,1)-(start_day-1))-IF((WEEKDAY($K$1,1)-(start_day-1))<=0,7,0)+(ROW(L4)-ROW($K$3))*7+(COLUMN(L4)-COLUMN($K$3)+1)),"",$K$1-(WEEKDAY($K$1,1)-(start_day-1))-IF((WEEKDAY($K$1,1)-(start_day-1))<=0,7,0)+(ROW(L4)-ROW($K$3))*7+(COLUMN(L4)-COLUMN($K$3)+1)) -> 46237 | M4: =IF(MONTH($K$1)<>MONTH($K$1-(WEEKDAY($K$1,1)-(start_day-1))-IF((WEEKDAY($K$1,1)-(start_day-1))<=0,7,0)+(ROW(M4)-ROW($K$3))*7+(COLUMN(M4)-COLUMN($K$3)+1)),"",$K$1-(WEEKDAY($K$1,1)-(start_day-1))-IF((WEEKDAY($K$1,1)-(start_day-1))<=0,7,0)+(ROW(M4)-ROW($K$3))*7+(COLUMN(M4)-COLUMN($K$3)+1)) -> 46238 | N4: =IF(MONTH($K$1)<>MONTH($K$1-(WEEKDAY($K$1,1)-(start_day-1))-IF((WEEKDAY($K$1,1)-(start_day-1))<=0,7,0)+(ROW(N4)-ROW($K$3))*7+(COLUMN(N4)-COLUMN($K$3)+1)),"",$K$1-(WEEKDAY($K$1,1)-(start_day-1))-IF((WEEKDAY($K$1,1)-(start_day-1))<=0,7,0)+(ROW(N4)-ROW($K$3))*7+(COLUMN(N4)-COLUMN($K$3)+1)) -> 46239 | O4: =IF(MONTH($K$1)<>MONTH($K$1-(WEEKDAY($K$1,1)-(start_day-1))-IF((WEEKDAY($K$1,1)-(start_day-1))<=0,7,0)+(ROW(O4)-ROW($K$3))*7+(COLUMN(O4)-COLUMN($K$3)+1)),"",$K$1-(WEEKDAY($K$1,1)-(start_day-1))-IF((WEEKDAY($K$1,1)-(start_day-1))<=0,7,0)+(ROW(O4)-ROW($K$3))*7+(COLUMN(O4)-COLUMN($K$3)+1)) -> 46240 | P4: =IF(MONTH($K$1)<>MONTH($K$1-(WEEKDAY($K$1,1)-(start_day-1))-IF((WEEKDAY($K$1,1)-(start_day-1))<=0,7,0)+(ROW(P4)-ROW($K$3))*7+(COLUMN(P4)-COLUMN($K$3)+1)),"",$K$1-(WEEKDAY($K$1,1)-(start_day-1))-IF((WEEKDAY($K$1,1)-(start_day-1))<=0,7,0)+(ROW(P4)-ROW($K$3))*7+(COLUMN(P4)-COLUMN($K$3)+1)) -> 46241 | Q4: =IF(MONTH($K$1)<>MONTH($K$1-(WEEKDAY($K$1,1)-(start_day-1))-IF((WEEKDAY($K$1,1)-(start_day-1))<=0,7,0)+(ROW(Q4)-ROW($K$3))*7+(COLUMN(Q4)-COLUMN($K$3)+1)),"",$K$1-(WEEKDAY($K$1,1)-(start_day-1))-IF((WEEKDAY($K$1,1)-(start_day-1))<=0,7,0)+(ROW(Q4)-ROW($K$3))*7+(COLUMN(Q4)-COLUMN($K$3)+1)) -> 46242 | S4: =IF(MONTH($S$1)<>MONTH($S$1-(WEEKDAY($S$1,1)-(start_day-1))-IF((WEEKDAY($S$1,1)-(start_day-1))<=0,7,0)+(ROW(S4)-ROW($S$3))*7+(COLUMN(S4)-COLUMN($S$3)+1)),"",$S$1-(WEEKDAY($S$1,1)-(start_day-1))-IF((WEEKDAY($S$1,1)-(start_day-1))<=0,7,0)+(ROW(S4)-ROW($S$3))*7+(COLUMN(S4)-COLUMN($S$3)+1)) -> 46299 | T4: =IF(MONTH($S$1)<>MONTH($S$1-(WEEKDAY($S$1,1)-(start_day-1))-IF((WEEKDAY($S$1,1)-(start_day-1))<=0,7,0)+(ROW(T4)-ROW($S$3))*7+(COLUMN(T4)-COLUMN($S$3)+1)),"",$S$1-(WEEKDAY($S$1,1)-(start_day-1))-IF((WEEKDAY($S$1,1)-(start_day-1))<=0,7,0)+(ROW(T4)-ROW($S$3))*7+(COLUMN(T4)-COLUMN($S$3)+1)) -> 46300 | U4: =IF(MONTH($S$1)<>MONTH($S$1-(WEEKDAY($S$1,1)-(start_day-1))-IF((WEEKDAY($S$1,1)-(start_day-1))<=0,7,0)+(ROW(U4)-ROW($S$3))*7+(COLUMN(U4)-COLUMN($S$3)+1)),"",$S$1-(WEEKDAY($S$1,1)-(start_day-1))-IF((WEEKDAY($S$1,1)-(start_day-1))<=0,7,0)+(ROW(U4)-ROW($S$3))*7+(COLUMN(U4)-COLUMN($S$3)+1)) -> 46301 | V4: =IF(MONTH($S$1)<>MONTH($S$1-(WEEKDAY($S$1,1)-(start_day-1))-IF((WEEKDAY($S$1,1)-(start_day-1))<=0,7,0)+(ROW(V4)-ROW($S$3))*7+(COLUMN(V4)-COLUMN($S$3)+1)),"",$S$1-(WEEKDAY($S$1,1)-(start_day-1))-IF((WEEKDAY($S$1,1)-(start_day-1))<=0,7,0)+(ROW(V4)-ROW($S$3))*7+(COLUMN(V4)-COLUMN($S$3)+1)) -> 46302 | W4: =IF(MONTH($S$1)<>MONTH($S$1-(WEEKDAY($S$1,1)-(start_day-1))-IF((WEEKDAY($S$1,1)-(start_day-1))<=0,7,0)+(ROW(W4)-ROW($S$3))*7+(COLUMN(W4)-COLUMN($S$3)+1)),"",$S$1-(WEEKDAY($S$1,1)-(start_day-1))-IF((WEEKDAY($S$1,1)-(start_day-1))<=0,7,0)+(ROW(W4)-ROW($S$3))*7+(COLUMN(W4)-COLUMN($S$3)+1)) -> 46303 | X4: =IF(MONTH($S$1)<>MONTH($S$1-(WEEKDAY($S$1,1)-(start_day-1))-IF((WEEKDAY($S$1,1)-(start_day-1))<=0,7,0)+(ROW(X4)-ROW($S$3))*7+(COLUMN(X4)-COLUMN($S$3)+1)),"",$S$1-(WEEKDAY($S$1,1)-(start_day-1))-IF((WEEKDAY($S$1,1)-(start_day-1))<=0,7,0)+(ROW(X4)-ROW($S$3))*7+(COLUMN(X4)-COLUMN($S$3)+1)) -> 46304 | Y4: =IF(MONTH($S$1)<>MONTH($S$1-(WEEKDAY($S$1,1)-(start_day-1))-IF((WEEKDAY($S$1,1)-(start_day-1))<=0,7,0)+(ROW(Y4)-ROW($S$3))*7+(COLUMN(Y4)-COLUMN($S$3)+1)),"",$S$1-(WEEKDAY($S$1,1)-(start_day-1))-IF((WEEKDAY($S$1,1)-(start_day-1))<=0,7,0)+(ROW(Y4)-ROW($S$3))*7+(COLUMN(Y4)-COLUMN($S$3)+1)) -> 46305
K5: =IF(MONTH($K$1)<>MONTH($K$1-(WEEKDAY($K$1,1)-(start_day-1))-IF((WEEKDAY($K$1,1)-(start_day-1))<=0,7,0)+(ROW(K5)-ROW($K$3))*7+(COLUMN(K5)-COLUMN($K$3)+1)),"",$K$1-(WEEKDAY($K$1,1)-(start_day-1))-IF((WEEKDAY($K$1,1)-(start_day-1))<=0,7,0)+(ROW(K5)-ROW($K$3))*7+(COLUMN(K5)-COLUMN($K$3)+1)) -> 46243 | L5: =IF(MONTH($K$1)<>MONTH($K$1-(WEEKDAY($K$1,1)-(start_day-1))-IF((WEEKDAY($K$1,1)-(start_day-1))<=0,7,0)+(ROW(L5)-ROW($K$3))*7+(COLUMN(L5)-COLUMN($K$3)+1)),"",$K$1-(WEEKDAY($K$1,1)-(start_day-1))-IF((WEEKDAY($K$1,1)-(start_day-1))<=0,7,0)+(ROW(L5)-ROW($K$3))*7+(COLUMN(L5)-COLUMN($K$3)+1)) -> 46244 | M5: =IF(MONTH($K$1)<>MONTH($K$1-(WEEKDAY($K$1,1)-(start_day-1))-IF((WEEKDAY($K$1,1)-(start_day-1))<=0,7,0)+(ROW(M5)-ROW($K$3))*7+(COLUMN(M5)-COLUMN($K$3)+1)),"",$K$1-(WEEKDAY($K$1,1)-(start_day-1))-IF((WEEKDAY($K$1,1)-(start_day-1))<=0,7,0)+(ROW(M5)-ROW($K$3))*7+(COLUMN(M5)-COLUMN($K$3)+1)) -> 46245 | N5: =IF(MONTH($K$1)<>MONTH($K$1-(WEEKDAY($K$1,1)-(start_day-1))-IF((WEEKDAY($K$1,1)-(start_day-1))<=0,7,0)+(ROW(N5)-ROW($K$3))*7+(COLUMN(N5)-COLUMN($K$3)+1)),"",$K$1-(WEEKDAY($K$1,1)-(start_day-1))-IF((WEEKDAY($K$1,1)-(start_day-1))<=0,7,0)+(ROW(N5)-ROW($K$3))*7+(COLUMN(N5)-COLUMN($K$3)+1)) -> 46246 | O5: =IF(MONTH($K$1)<>MONTH($K$1-(WEEKDAY($K$1,1)-(start_day-1))-IF((WEEKDAY($K$1,1)-(start_day-1))<=0,7,0)+(ROW(O5)-ROW($K$3))*7+(COLUMN(O5)-COLUMN($K$3)+1)),"",$K$1-(WEEKDAY($K$1,1)-(start_day-1))-IF((WEEKDAY($K$1,1)-(start_day-1))<=0,7,0)+(ROW(O5)-ROW($K$3))*7+(COLUMN(O5)-COLUMN($K$3)+1)) -> 46247 | P5: =IF(MONTH($K$1)<>MONTH($K$1-(WEEKDAY($K$1,1)-(start_day-1))-IF((WEEKDAY($K$1,1)-(start_day-1))<=0,7,0)+(ROW(P5)-ROW($K$3))*7+(COLUMN(P5)-COLUMN($K$3)+1)),"",$K$1-(WEEKDAY($K$1,1)-(start_day-1))-IF((WEEKDAY($K$1,1)-(start_day-1))<=0,7,0)+(ROW(P5)-ROW($K$3))*7+(COLUMN(P5)-COLUMN($K$3)+1)) -> 46248 | Q5: =IF(MONTH($K$1)<>MONTH($K$1-(WEEKDAY($K$1,1)-(start_day-1))-IF((WEEKDAY($K$1,1)-(start_day-1))<=0,7,0)+(ROW(Q5)-ROW($K$3))*7+(COLUMN(Q5)-COLUMN($K$3)+1)),"",$K$1-(WEEKDAY($K$1,1)-(start_day-1))-IF((WEEKDAY($K$1,1)-(start_day-1))<=0,7,0)+(ROW(Q5)-ROW($K$3))*7+(COLUMN(Q5)-COLUMN($K$3)+1)) -> 46249 | S5: =IF(MONTH($S$1)<>MONTH($S$1-(WEEKDAY($S$1,1)-(start_day-1))-IF((WEEKDAY($S$1,1)-(start_day-1))<=0,7,0)+(ROW(S5)-ROW($S$3))*7+(COLUMN(S5)-COLUMN($S$3)+1)),"",$S$1-(WEEKDAY($S$1,1)-(start_day-1))-IF((WEEKDAY($S$1,1)-(start_day-1))<=0,7,0)+(ROW(S5)-ROW($S$3))*7+(COLUMN(S5)-COLUMN($S$3)+1)) -> 46306 | T5: =IF(MONTH($S$1)<>MONTH($S$1-(WEEKDAY($S$1,1)-(start_day-1))-IF((WEEKDAY($S$1,1)-(start_day-1))<=0,7,0)+(ROW(T5)-ROW($S$3))*7+(COLUMN(T5)-COLUMN($S$3)+1)),"",$S$1-(WEEKDAY($S$1,1)-(start_day-1))-IF((WEEKDAY($S$1,1)-(start_day-1))<=0,7,0)+(ROW(T5)-ROW($S$3))*7+(COLUMN(T5)-COLUMN($S$3)+1)) -> 46307 | U5: =IF(MONTH($S$1)<>MONTH($S$1-(WEEKDAY($S$1,1)-(start_day-1))-IF((WEEKDAY($S$1,1)-(start_day-1))<=0,7,0)+(ROW(U5)-ROW($S$3))*7+(COLUMN(U5)-COLUMN($S$3)+1)),"",$S$1-(WEEKDAY($S$1,1)-(start_day-1))-IF((WEEKDAY($S$1,1)-(start_day-1))<=0,7,0)+(ROW(U5)-ROW($S$3))*7+(COLUMN(U5)-COLUMN($S$3)+1)) -> 46308 | V5: =IF(MONTH($S$1)<>MONTH($S$1-(WEEKDAY($S$1,1)-(start_day-1))-IF((WEEKDAY($S$1,1)-(start_day-1))<=0,7,0)+(ROW(V5)-ROW($S$3))*7+(COLUMN(V5)-COLUMN($S$3)+1)),"",$S$1-(WEEKDAY($S$1,1)-(start_day-1))-IF((WEEKDAY($S$1,1)-(start_day-1))<=0,7,0)+(ROW(V5)-ROW($S$3))*7+(COLUMN(V5)-COLUMN($S$3)+1)) -> 46309 | W5: =IF(MONTH($S$1)<>MONTH($S$1-(WEEKDAY($S$1,1)-(start_day-1))-IF((WEEKDAY($S$1,1)-(start_day-1))<=0,7,0)+(ROW(W5)-ROW($S$3))*7+(COLUMN(W5)-COLUMN($S$3)+1)),"",$S$1-(WEEKDAY($S$1,1)-(start_day-1))-IF((WEEKDAY($S$1,1)-(start_day-1))<=0,7,0)+(ROW(W5)-ROW($S$3))*7+(COLUMN(W5)-COLUMN($S$3)+1)) -> 46310 | X5: =IF(MONTH($S$1)<>MONTH($S$1-(WEEKDAY($S$1,1)-(start_day-1))-IF((WEEKDAY($S$1,1)-(start_day-1))<=0,7,0)+(ROW(X5)-ROW($S$3))*7+(COLUMN(X5)-COLUMN($S$3)+1)),"",$S$1-(WEEKDAY($S$1,1)-(start_day-1))-IF((WEEKDAY($S$1,1)-(start_day-1))<=0,7,0)+(ROW(X5)-ROW($S$3))*7+(COLUMN(X5)-COLUMN($S$3)+1)) -> 46311 | Y5: =IF(MONTH($S$1)<>MONTH($S$1-(WEEKDAY($S$1,1)-(start_day-1))-IF((WEEKDAY($S$1,1)-(start_day-1))<=0,7,0)+(ROW(Y5)-ROW($S$3))*7+(COLUMN(Y5)-COLUMN($S$3)+1)),"",$S$1-(WEEKDAY($S$1,1)-(start_day-1))-IF((WEEKDAY($S$1,1)-(start_day-1))<=0,7,0)+(ROW(Y5)-ROW($S$3))*7+(COLUMN(Y5)-COLUMN($S$3)+1)) -> 46312
K6: =IF(MONTH($K$1)<>MONTH($K$1-(WEEKDAY($K$1,1)-(start_day-1))-IF((WEEKDAY($K$1,1)-(start_day-1))<=0,7,0)+(ROW(K6)-ROW($K$3))*7+(COLUMN(K6)-COLUMN($K$3)+1)),"",$K$1-(WEEKDAY($K$1,1)-(start_day-1))-IF((WEEKDAY($K$1,1)-(start_day-1))<=0,7,0)+(ROW(K6)-ROW($K$3))*7+(COLUMN(K6)-COLUMN($K$3)+1)) -> 46250 | L6: =IF(MONTH($K$1)<>MONTH($K$1-(WEEKDAY($K$1,1)-(start_day-1))-IF((WEEKDAY($K$1,1)-(start_day-1))<=0,7,0)+(ROW(L6)-ROW($K$3))*7+(COLUMN(L6)-COLUMN($K$3)+1)),"",$K$1-(WEEKDAY($K$1,1)-(start_day-1))-IF((WEEKDAY($K$1,1)-(start_day-1))<=0,7,0)+(ROW(L6)-ROW($K$3))*7+(COLUMN(L6)-COLUMN($K$3)+1)) -> 46251 | M6: =IF(MONTH($K$1)<>MONTH($K$1-(WEEKDAY($K$1,1)-(start_day-1))-IF((WEEKDAY($K$1,1)-(start_day-1))<=0,7,0)+(ROW(M6)-ROW($K$3))*7+(COLUMN(M6)-COLUMN($K$3)+1)),"",$K$1-(WEEKDAY($K$1,1)-(start_day-1))-IF((WEEKDAY($K$1,1)-(start_day-1))<=0,7,0)+(ROW(M6)-ROW($K$3))*7+(COLUMN(M6)-COLUMN($K$3)+1)) -> 46252 | N6: =IF(MONTH($K$1)<>MONTH($K$1-(WEEKDAY($K$1,1)-(start_day-1))-IF((WEEKDAY($K$1,1)-(start_day-1))<=0,7,0)+(ROW(N6)-ROW($K$3))*7+(COLUMN(N6)-COLUMN($K$3)+1)),"",$K$1-(WEEKDAY($K$1,1)-(start_day-1))-IF((WEEKDAY($K$1,1)-(start_day-1))<=0,7,0)+(ROW(N6)-ROW($K$3))*7+(COLUMN(N6)-COLUMN($K$3)+1)) -> 46253 | O6: =IF(MONTH($K$1)<>MONTH($K$1-(WEEKDAY($K$1,1)-(start_day-1))-IF((WEEKDAY($K$1,1)-(start_day-1))<=0,7,0)+(ROW(O6)-ROW($K$3))*7+(COLUMN(O6)-COLUMN($K$3)+1)),"",$K$1-(WEEKDAY($K$1,1)-(start_day-1))-IF((WEEKDAY($K$1,1)-(start_day-1))<=0,7,0)+(ROW(O6)-ROW($K$3))*7+(COLUMN(O6)-COLUMN($K$3)+1)) -> 46254 | P6: =IF(MONTH($K$1)<>MONTH($K$1-(WEEKDAY($K$1,1)-(start_day-1))-IF((WEEKDAY($K$1,1)-(start_day-1))<=0,7,0)+(ROW(P6)-ROW($K$3))*7+(COLUMN(P6)-COLUMN($K$3)+1)),"",$K$1-(WEEKDAY($K$1,1)-(start_day-1))-IF((WEEKDAY($K$1,1)-(start_day-1))<=0,7,0)+(ROW(P6)-ROW($K$3))*7+(COLUMN(P6)-COLUMN($K$3)+1)) -> 46255 | Q6: =IF(MONTH($K$1)<>MONTH($K$1-(WEEKDAY($K$1,1)-(start_day-1))-IF((WEEKDAY($K$1,1)-(start_day-1))<=0,7,0)+(ROW(Q6)-ROW($K$3))*7+(COLUMN(Q6)-COLUMN($K$3)+1)),"",$K$1-(WEEKDAY($K$1,1)-(start_day-1))-IF((WEEKDAY($K$1,1)-(start_day-1))<=0,7,0)+(ROW(Q6)-ROW($K$3))*7+(COLUMN(Q6)-COLUMN($K$3)+1)) -> 46256 | S6: =IF(MONTH($S$1)<>MONTH($S$1-(WEEKDAY($S$1,1)-(start_day-1))-IF((WEEKDAY($S$1,1)-(start_day-1))<=0,7,0)+(ROW(S6)-ROW($S$3))*7+(COLUMN(S6)-COLUMN($S$3)+1)),"",$S$1-(WEEKDAY($S$1,1)-(start_day-1))-IF((WEEKDAY($S$1,1)-(start_day-1))<=0,7,0)+(ROW(S6)-ROW($S$3))*7+(COLUMN(S6)-COLUMN($S$3)+1)) -> 46313 | T6: =IF(MONTH($S$1)<>MONTH($S$1-(WEEKDAY($S$1,1)-(start_day-1))-IF((WEEKDAY($S$1,1)-(start_day-1))<=0,7,0)+(ROW(T6)-ROW($S$3))*7+(COLUMN(T6)-COLUMN($S$3)+1)),"",$S$1-(WEEKDAY($S$1,1)-(start_day-1))-IF((WEEKDAY($S$1,1)-(start_day-1))<=0,7,0)+(ROW(T6)-ROW($S$3))*7+(COLUMN(T6)-COLUMN($S$3)+1)) -> 46314 | U6: =IF(MONTH($S$1)<>MONTH($S$1-(WEEKDAY($S$1,1)-(start_day-1))-IF((WEEKDAY($S$1,1)-(start_day-1))<=0,7,0)+(ROW(U6)-ROW($S$3))*7+(COLUMN(U6)-COLUMN($S$3)+1)),"",$S$1-(WEEKDAY($S$1,1)-(start_day-1))-IF((WEEKDAY($S$1,1)-(start_day-1))<=0,7,0)+(ROW(U6)-ROW($S$3))*7+(COLUMN(U6)-COLUMN($S$3)+1)) -> 46315 | V6: =IF(MONTH($S$1)<>MONTH($S$1-(WEEKDAY($S$1,1)-(start_day-1))-IF((WEEKDAY($S$1,1)-(start_day-1))<=0,7,0)+(ROW(V6)-ROW($S$3))*7+(COLUMN(V6)-COLUMN($S$3)+1)),"",$S$1-(WEEKDAY($S$1,1)-(start_day-1))-IF((WEEKDAY($S$1,1)-(start_day-1))<=0,7,0)+(ROW(V6)-ROW($S$3))*7+(COLUMN(V6)-COLUMN($S$3)+1)) -> 46316 | W6: =IF(MONTH($S$1)<>MONTH($S$1-(WEEKDAY($S$1,1)-(start_day-1))-IF((WEEKDAY($S$1,1)-(start_day-1))<=0,7,0)+(ROW(W6)-ROW($S$3))*7+(COLUMN(W6)-COLUMN($S$3)+1)),"",$S$1-(WEEKDAY($S$1,1)-(start_day-1))-IF((WEEKDAY($S$1,1)-(start_day-1))<=0,7,0)+(ROW(W6)-ROW($S$3))*7+(COLUMN(W6)-COLUMN($S$3)+1)) -> 46317 | X6: =IF(MONTH($S$1)<>MONTH($S$1-(WEEKDAY($S$1,1)-(start_day-1))-IF((WEEKDAY($S$1,1)-(start_day-1))<=0,7,0)+(ROW(X6)-ROW($S$3))*7+(COLUMN(X6)-COLUMN($S$3)+1)),"",$S$1-(WEEKDAY($S$1,1)-(start_day-1))-IF((WEEKDAY($S$1,1)-(start_day-1))<=0,7,0)+(ROW(X6)-ROW($S$3))*7+(COLUMN(X6)-COLUMN($S$3)+1)) -> 46318 | Y6: =IF(MONTH($S$1)<>MONTH($S$1-(WEEKDAY($S$1,1)-(start_day-1))-IF((WEEKDAY($S$1,1)-(start_day-1))<=0,7,0)+(ROW(Y6)-ROW($S$3))*7+(COLUMN(Y6)-COLUMN($S$3)+1)),"",$S$1-(WEEKDAY($S$1,1)-(start_day-1))-IF((WEEKDAY($S$1,1)-(start_day-1))<=0,7,0)+(ROW(Y6)-ROW($S$3))*7+(COLUMN(Y6)-COLUMN($S$3)+1)) -> 46319
K7: =IF(MONTH($K$1)<>MONTH($K$1-(WEEKDAY($K$1,1)-(start_day-1))-IF((WEEKDAY($K$1,1)-(start_day-1))<=0,7,0)+(ROW(K7)-ROW($K$3))*7+(COLUMN(K7)-COLUMN($K$3)+1)),"",$K$1-(WEEKDAY($K$1,1)-(start_day-1))-IF((WEEKDAY($K$1,1)-(start_day-1))<=0,7,0)+(ROW(K7)-ROW($K$3))*7+(COLUMN(K7)-COLUMN($K$3)+1)) -> 46257 | L7: =IF(MONTH($K$1)<>MONTH($K$1-(WEEKDAY($K$1,1)-(start_day-1))-IF((WEEKDAY($K$1,1)-(start_day-1))<=0,7,0)+(ROW(L7)-ROW($K$3))*7+(COLUMN(L7)-COLUMN($K$3)+1)),"",$K$1-(WEEKDAY($K$1,1)-(start_day-1))-IF((WEEKDAY($K$1,1)-(start_day-1))<=0,7,0)+(ROW(L7)-ROW($K$3))*7+(COLUMN(L7)-COLUMN($K$3)+1)) -> 46258 | M7: =IF(MONTH($K$1)<>MONTH($K$1-(WEEKDAY($K$1,1)-(start_day-1))-IF((WEEKDAY($K$1,1)-(start_day-1))<=0,7,0)+(ROW(M7)-ROW($K$3))*7+(COLUMN(M7)-COLUMN($K$3)+1)),"",$K$1-(WEEKDAY($K$1,1)-(start_day-1))-IF((WEEKDAY($K$1,1)-(start_day-1))<=0,7,0)+(ROW(M7)-ROW($K$3))*7+(COLUMN(M7)-COLUMN($K$3)+1)) -> 46259 | N7: =IF(MONTH($K$1)<>MONTH($K$1-(WEEKDAY($K$1,1)-(start_day-1))-IF((WEEKDAY($K$1,1)-(start_day-1))<=0,7,0)+(ROW(N7)-ROW($K$3))*7+(COLUMN(N7)-COLUMN($K$3)+1)),"",$K$1-(WEEKDAY($K$1,1)-(start_day-1))-IF((WEEKDAY($K$1,1)-(start_day-1))<=0,7,0)+(ROW(N7)-ROW($K$3))*7+(COLUMN(N7)-COLUMN($K$3)+1)) -> 46260 | O7: =IF(MONTH($K$1)<>MONTH($K$1-(WEEKDAY($K$1,1)-(start_day-1))-IF((WEEKDAY($K$1,1)-(start_day-1))<=0,7,0)+(ROW(O7)-ROW($K$3))*7+(COLUMN(O7)-COLUMN($K$3)+1)),"",$K$1-(WEEKDAY($K$1,1)-(start_day-1))-IF((WEEKDAY($K$1,1)-(start_day-1))<=0,7,0)+(ROW(O7)-ROW($K$3))*7+(COLUMN(O7)-COLUMN($K$3)+1)) -> 46261 | P7: =IF(MONTH($K$1)<>MONTH($K$1-(WEEKDAY($K$1,1)-(start_day-1))-IF((WEEKDAY($K$1,1)-(start_day-1))<=0,7,0)+(ROW(P7)-ROW($K$3))*7+(COLUMN(P7)-COLUMN($K$3)+1)),"",$K$1-(WEEKDAY($K$1,1)-(start_day-1))-IF((WEEKDAY($K$1,1)-(start_day-1))<=0,7,0)+(ROW(P7)-ROW($K$3))*7+(COLUMN(P7)-COLUMN($K$3)+1)) -> 46262 | Q7: =IF(MONTH($K$1)<>MONTH($K$1-(WEEKDAY($K$1,1)-(start_day-1))-IF((WEEKDAY($K$1,1)-(start_day-1))<=0,7,0)+(ROW(Q7)-ROW($K$3))*7+(COLUMN(Q7)-COLUMN($K$3)+1)),"",$K$1-(WEEKDAY($K$1,1)-(start_day-1))-IF((WEEKDAY($K$1,1)-(start_day-1))<=0,7,0)+(ROW(Q7)-ROW($K$3))*7+(COLUMN(Q7)-COLUMN($K$3)+1)) -> 46263 | S7: =IF(MONTH($S$1)<>MONTH($S$1-(WEEKDAY($S$1,1)-(start_day-1))-IF((WEEKDAY($S$1,1)-(start_day-1))<=0,7,0)+(ROW(S7)-ROW($S$3))*7+(COLUMN(S7)-COLUMN($S$3)+1)),"",$S$1-(WEEKDAY($S$1,1)-(start_day-1))-IF((WEEKDAY($S$1,1)-(start_day-1))<=0,7,0)+(ROW(S7)-ROW($S$3))*7+(COLUMN(S7)-COLUMN($S$3)+1)) -> 46320 | T7: =IF(MONTH($S$1)<>MONTH($S$1-(WEEKDAY($S$1,1)-(start_day-1))-IF((WEEKDAY($S$1,1)-(start_day-1))<=0,7,0)+(ROW(T7)-ROW($S$3))*7+(COLUMN(T7)-COLUMN($S$3)+1)),"",$S$1-(WEEKDAY($S$1,1)-(start_day-1))-IF((WEEKDAY($S$1,1)-(start_day-1))<=0,7,0)+(ROW(T7)-ROW($S$3))*7+(COLUMN(T7)-COLUMN($S$3)+1)) -> 46321 | U7: =IF(MONTH($S$1)<>MONTH($S$1-(WEEKDAY($S$1,1)-(start_day-1))-IF((WEEKDAY($S$1,1)-(start_day-1))<=0,7,0)+(ROW(U7)-ROW($S$3))*7+(COLUMN(U7)-COLUMN($S$3)+1)),"",$S$1-(WEEKDAY($S$1,1)-(start_day-1))-IF((WEEKDAY($S$1,1)-(start_day-1))<=0,7,0)+(ROW(U7)-ROW($S$3))*7+(COLUMN(U7)-COLUMN($S$3)+1)) -> 46322 | V7: =IF(MONTH($S$1)<>MONTH($S$1-(WEEKDAY($S$1,1)-(start_day-1))-IF((WEEKDAY($S$1,1)-(start_day-1))<=0,7,0)+(ROW(V7)-ROW($S$3))*7+(COLUMN(V7)-COLUMN($S$3)+1)),"",$S$1-(WEEKDAY($S$1,1)-(start_day-1))-IF((WEEKDAY($S$1,1)-(start_day-1))<=0,7,0)+(ROW(V7)-ROW($S$3))*7+(COLUMN(V7)-COLUMN($S$3)+1)) -> 46323 | W7: =IF(MONTH($S$1)<>MONTH($S$1-(WEEKDAY($S$1,1)-(start_day-1))-IF((WEEKDAY($S$1,1)-(start_day-1))<=0,7,0)+(ROW(W7)-ROW($S$3))*7+(COLUMN(W7)-COLUMN($S$3)+1)),"",$S$1-(WEEKDAY($S$1,1)-(start_day-1))-IF((WEEKDAY($S$1,1)-(start_day-1))<=0,7,0)+(ROW(W7)-ROW($S$3))*7+(COLUMN(W7)-COLUMN($S$3)+1)) -> 46324 | X7: =IF(MONTH($S$1)<>MONTH($S$1-(WEEKDAY($S$1,1)-(start_day-1))-IF((WEEKDAY($S$1,1)-(start_day-1))<=0,7,0)+(ROW(X7)-ROW($S$3))*7+(COLUMN(X7)-COLUMN($S$3)+1)),"",$S$1-(WEEKDAY($S$1,1)-(start_day-1))-IF((WEEKDAY($S$1,1)-(start_day-1))<=0,7,0)+(ROW(X7)-ROW($S$3))*7+(COLUMN(X7)-COLUMN($S$3)+1)) -> 46325 | Y7: =IF(MONTH($S$1)<>MONTH($S$1-(WEEKDAY($S$1,1)-(start_day-1))-IF((WEEKDAY($S$1,1)-(start_day-1))<=0,7,0)+(ROW(Y7)-ROW($S$3))*7+(COLUMN(Y7)-COLUMN($S$3)+1)),"",$S$1-(WEEKDAY($S$1,1)-(start_day-1))-IF((WEEKDAY($S$1,1)-(start_day-1))<=0,7,0)+(ROW(Y7)-ROW($S$3))*7+(COLUMN(Y7)-COLUMN($S$3)+1)) -> 46326
K8: =IF(MONTH($K$1)<>MONTH($K$1-(WEEKDAY($K$1,1)-(start_day-1))-IF((WEEKDAY($K$1,1)-(start_day-1))<=0,7,0)+(ROW(K8)-ROW($K$3))*7+(COLUMN(K8)-COLUMN($K$3)+1)),"",$K$1-(WEEKDAY($K$1,1)-(start_day-1))-IF((WEEKDAY($K$1,1)-(start_day-1))<=0,7,0)+(ROW(K8)-ROW($K$3))*7+(COLUMN(K8)-COLUMN($K$3)+1)) -> 46264 | L8: =IF(MONTH($K$1)<>MONTH($K$1-(WEEKDAY($K$1,1)-(start_day-1))-IF((WEEKDAY($K$1,1)-(start_day-1))<=0,7,0)+(ROW(L8)-ROW($K$3))*7+(COLUMN(L8)-COLUMN($K$3)+1)),"",$K$1-(WEEKDAY($K$1,1)-(start_day-1))-IF((WEEKDAY($K$1,1)-(start_day-1))<=0,7,0)+(ROW(L8)-ROW($K$3))*7+(COLUMN(L8)-COLUMN($K$3)+1)) -> 46265 | M8: =IF(MONTH($K$1)<>MONTH($K$1-(WEEKDAY($K$1,1)-(start_day-1))-IF((WEEKDAY($K$1,1)-(start_day-1))<=0,7,0)+(ROW(M8)-ROW($K$3))*7+(COLUMN(M8)-COLUMN($K$3)+1)),"",$K$1-(WEEKDAY($K$1,1)-(start_day-1))-IF((WEEKDAY($K$1,1)-(start_day-1))<=0,7,0)+(ROW(M8)-ROW($K$3))*7+(COLUMN(M8)-COLUMN($K$3)+1)) | N8: =IF(MONTH($K$1)<>MONTH($K$1-(WEEKDAY($K$1,1)-(start_day-1))-IF((WEEKDAY($K$1,1)-(start_day-1))<=0,7,0)+(ROW(N8)-ROW($K$3))*7+(COLUMN(N8)-COLUMN($K$3)+1)),"",$K$1-(WEEKDAY($K$1,1)-(start_day-1))-IF((WEEKDAY($K$1,1)-(start_day-1))<=0,7,0)+(ROW(N8)-ROW($K$3))*7+(COLUMN(N8)-COLUMN($K$3)+1)) | O8: =IF(MONTH($K$1)<>MONTH($K$1-(WEEKDAY($K$1,1)-(start_day-1))-IF((WEEKDAY($K$1,1)-(start_day-1))<=0,7,0)+(ROW(O8)-ROW($K$3))*7+(COLUMN(O8)-COLUMN($K$3)+1)),"",$K$1-(WEEKDAY($K$1,1)-(start_day-1))-IF((WEEKDAY($K$1,1)-(start_day-1))<=0,7,0)+(ROW(O8)-ROW($K$3))*7+(COLUMN(O8)-COLUMN($K$3)+1)) | P8: =IF(MONTH($K$1)<>MONTH($K$1-(WEEKDAY($K$1,1)-(start_day-1))-IF((WEEKDAY($K$1,1)-(start_day-1))<=0,7,0)+(ROW(P8)-ROW($K$3))*7+(COLUMN(P8)-COLUMN($K$3)+1)),"",$K$1-(WEEKDAY($K$1,1)-(start_day-1))-IF((WEEKDAY($K$1,1)-(start_day-1))<=0,7,0)+(ROW(P8)-ROW($K$3))*7+(COLUMN(P8)-COLUMN($K$3)+1)) | Q8: =IF(MONTH($K$1)<>MONTH($K$1-(WEEKDAY($K$1,1)-(start_day-1))-IF((WEEKDAY($K$1,1)-(start_day-1))<=0,7,0)+(ROW(Q8)-ROW($K$3))*7+(COLUMN(Q8)-COLUMN($K$3)+1)),"",$K$1-(WEEKDAY($K$1,1)-(start_day-1))-IF((WEEKDAY($K$1,1)-(start_day-1))<=0,7,0)+(ROW(Q8)-ROW($K$3))*7+(COLUMN(Q8)-COLUMN($K$3)+1)) | S8: =IF(MONTH($S$1)<>MONTH($S$1-(WEEKDAY($S$1,1)-(start_day-1))-IF((WEEKDAY($S$1,1)-(start_day-1))<=0,7,0)+(ROW(S8)-ROW($S$3))*7+(COLUMN(S8)-COLUMN($S$3)+1)),"",$S$1-(WEEKDAY($S$1,1)-(start_day-1))-IF((WEEKDAY($S$1,1)-(start_day-1))<=0,7,0)+(ROW(S8)-ROW($S$3))*7+(COLUMN(S8)-COLUMN($S$3)+1)) | T8: =IF(MONTH($S$1)<>MONTH($S$1-(WEEKDAY($S$1,1)-(start_day-1))-IF((WEEKDAY($S$1,1)-(start_day-1))<=0,7,0)+(ROW(T8)-ROW($S$3))*7+(COLUMN(T8)-COLUMN($S$3)+1)),"",$S$1-(WEEKDAY($S$1,1)-(start_day-1))-IF((WEEKDAY($S$1,1)-(start_day-1))<=0,7,0)+(ROW(T8)-ROW($S$3))*7+(COLUMN(T8)-COLUMN($S$3)+1)) | U8: =IF(MONTH($S$1)<>MONTH($S$1-(WEEKDAY($S$1,1)-(start_day-1))-IF((WEEKDAY($S$1,1)-(start_day-1))<=0,7,0)+(ROW(U8)-ROW($S$3))*7+(COLUMN(U8)-COLUMN($S$3)+1)),"",$S$1-(WEEKDAY($S$1,1)-(start_day-1))-IF((WEEKDAY($S$1,1)-(start_day-1))<=0,7,0)+(ROW(U8)-ROW($S$3))*7+(COLUMN(U8)-COLUMN($S$3)+1)) | V8: =IF(MONTH($S$1)<>MONTH($S$1-(WEEKDAY($S$1,1)-(start_day-1))-IF((WEEKDAY($S$1,1)-(start_day-1))<=0,7,0)+(ROW(V8)-ROW($S$3))*7+(COLUMN(V8)-COLUMN($S$3)+1)),"",$S$1-(WEEKDAY($S$1,1)-(start_day-1))-IF((WEEKDAY($S$1,1)-(start_day-1))<=0,7,0)+(ROW(V8)-ROW($S$3))*7+(COLUMN(V8)-COLUMN($S$3)+1)) | W8: =IF(MONTH($S$1)<>MONTH($S$1-(WEEKDAY($S$1,1)-(start_day-1))-IF((WEEKDAY($S$1,1)-(start_day-1))<=0,7,0)+(ROW(W8)-ROW($S$3))*7+(COLUMN(W8)-COLUMN($S$3)+1)),"",$S$1-(WEEKDAY($S$1,1)-(start_day-1))-IF((WEEKDAY($S$1,1)-(start_day-1))<=0,7,0)+(ROW(W8)-ROW($S$3))*7+(COLUMN(W8)-COLUMN($S$3)+1)) | X8: =IF(MONTH($S$1)<>MONTH($S$1-(WEEKDAY($S$1,1)-(start_day-1))-IF((WEEKDAY($S$1,1)-(start_day-1))<=0,7,0)+(ROW(X8)-ROW($S$3))*7+(COLUMN(X8)-COLUMN($S$3)+1)),"",$S$1-(WEEKDAY($S$1,1)-(start_day-1))-IF((WEEKDAY($S$1,1)-(start_day-1))<=0,7,0)+(ROW(X8)-ROW($S$3))*7+(COLUMN(X8)-COLUMN($S$3)+1)) | Y8: =IF(MONTH($S$1)<>MONTH($S$1-(WEEKDAY($S$1,1)-(start_day-1))-IF((WEEKDAY($S$1,1)-(start_day-1))<=0,7,0)+(ROW(Y8)-ROW($S$3))*7+(COLUMN(Y8)-COLUMN($S$3)+1)),"",$S$1-(WEEKDAY($S$1,1)-(start_day-1))-IF((WEEKDAY($S$1,1)-(start_day-1))<=0,7,0)+(ROW(Y8)-ROW($S$3))*7+(COLUMN(Y8)-COLUMN($S$3)+1))
A9: =A10 -> 46264 | C9: =C10 -> 46265 | E9: =E10 -> 46266 | G9: =G10 -> 46267 | I9: =I10 -> 46268 | K9: =K10 -> 46269 | S9: =S10 -> 46270
A10: =$A$1-(WEEKDAY($A$1,1)-(start_day-1))-IF((WEEKDAY($A$1,1)-(start_day-1))<=0,7,0)+1 -> 46264 | C10: =A10+1 -> 46265 | E10: =C10+1 -> 46266 | G10: =E10+1 -> 46267 | I10: =G10+1 -> 46268 | K10: =I10+1 -> 46269 | S10: =K10+1 -> 46270
A11: Morning
A13: Afternoon
A15: Evening
A16: =S10+1 -> 46271 | C16: =A16+1 -> 46272 | E16: =C16+1 -> 46273 | G16: =E16+1 -> 46274 | I16: =G16+1 -> 46275 | K16: =I16+1 -> 46276 | S16: =K16+1 -> 46277
A17: Morning | C17: HOLIDAY
A19: Afternoon
A21: Evening
A22: =S16+1 -> 46278 | C22: =A22+1 -> 46279 | E22: =C22+1 -> 46280 | G22: =E22+1 -> 46281 | I22: =G22+1 -> 46282 | K22: =I22+1 -> 46283 | S22: =K22+1 -> 46284
A23: Morning | C23: PEO Presentation | E23: KISD (KCC)
A25: Afternoon
A27: Evening | E27: KISD (KCC)
A28: =S22+1 -> 46285 | C28: =A28+1 -> 46286 | E28: =C28+1 -> 46287 | G28: =E28+1 -> 46288 | I28: =G28+1 -> 46289 | K28: =I28+1 -> 46290 | S28: =K28+1 -> 46291
A29: Morning | E29: KISD (SHS) | G29: KISD (ECHS 12) | I29: KISD (ECHS 12) | K29: KISD (Gateway)
A31: Afternoon
A33: Evening
A34: =S28+1 -> 46292 | C34: =A34+1 -> 46293 | E34: =C34+1 -> 46294 | G34: =E34+1 -> 46295 | I34: =G34+1 -> 46296 | K34: =I34+1 -> 46297 | S34: =K34+1 -> 46298
A35: Morning | E35: KISD (PAC) | G35: KISD (HHHS)
A37: Afternoon
A39: Evening
A40: =S34+1 -> 46299 | C40: =A40+1 -> 46300 | E40: Notes
K44: Calendar Templates by Vertex42
K45: https://www.vertex42.com/calendars/

Sheet Oct
A1: =DATE(Aug!AD18,Aug!AD20+2,1) -> 46296 | K1: =DATE(YEAR(A1),MONTH(A1)-1,1) -> 46266 | S1: =DATE(YEAR(A1),MONTH(A1)+1,1) -> 46327
K2: =INDEX({"S";"M";"T";"W";"T";"F";"S"},1+MOD(start_day+1-2,7)) -> S | L2: =INDEX({"S";"M";"T";"W";"T";"F";"S"},1+MOD(start_day+2-2,7)) -> M | M2: =INDEX({"S";"M";"T";"W";"T";"F";"S"},1+MOD(start_day+3-2,7)) -> T | N2: =INDEX({"S";"M";"T";"W";"T";"F";"S"},1+MOD(start_day+4-2,7)) -> W | O2: =INDEX({"S";"M";"T";"W";"T";"F";"S"},1+MOD(start_day+5-2,7)) -> T | P2: =INDEX({"S";"M";"T";"W";"T";"F";"S"},1+MOD(start_day+6-2,7)) -> F | Q2: =INDEX({"S";"M";"T";"W";"T";"F";"S"},1+MOD(start_day+7-2,7)) -> S | S2: =INDEX({"S";"M";"T";"W";"T";"F";"S"},1+MOD(start_day+1-2,7)) -> S | T2: =INDEX({"S";"M";"T";"W";"T";"F";"S"},1+MOD(start_day+2-2,7)) -> M | U2: =INDEX({"S";"M";"T";"W";"T";"F";"S"},1+MOD(start_day+3-2,7)) -> T | V2: =INDEX({"S";"M";"T";"W";"T";"F";"S"},1+MOD(start_day+4-2,7)) -> W | W2: =INDEX({"S";"M";"T";"W";"T";"F";"S"},1+MOD(start_day+5-2,7)) -> T | X2: =INDEX({"S";"M";"T";"W";"T";"F";"S"},1+MOD(start_day+6-2,7)) -> F | Y2: =INDEX({"S";"M";"T";"W";"T";"F";"S"},1+MOD(start_day+7-2,7)) -> S
